BEGIN:VCALENDAR
VERSION:2.0
PRODID:-//ChamberMaster//Event Calendar 2.0//EN
METHOD:PUBLISH
X-PUBLISHED-TTL:P3D
REFRESH-INTERVAL:P3D
CALSCALE:GREGORIAN
BEGIN:VEVENT
DTSTART;VALUE=DATE:20240613
DTEND;VALUE=DATE:20240617
TRANSP:TRANSPARENT
X-MICROSOFT-CDO-ALLDAYEVENT:TRUE
SUMMARY:12th Children's Art + Literacy Festival
DESCRIPTION:Enjoy four family-friendly days of fun at the 12th Children's Art + Literacy Festival in downtown Abilene at 17 venues presented by the Abilene Cultural Affairs Council and title sponsor Clear Fork Bank. Celebrate the books of LeUyen Pham (pronounced "Lay-Win Fam")\, the artist on exhibit this summer at the National Center for Children's Illustrated Literature. Thursday events are free. Friday and Saturday events require a pass for everyone 3 and older. Wear your CALF pass Sunday and enter the Abilene Zoo for free for additional festival programming and animal encounters!
X-ALT-DESC;FMTTYPE=text/html:Enjoy four family-friendly days of fun at the 12th Children&#39\;s Art + Literacy Festival in downtown Abilene at 17 venues presented by the Abilene Cultural Affairs Council and title sponsor Clear Fork Bank. Celebrate the books of LeUyen Pham (pronounced &quot\;Lay-Win Fam&quot\;)\, the artist on exhibit this summer at the National Center for Children&#39\;s Illustrated Literature. Thursday events are free. Friday and Saturday events require a pass for everyone 3 and older. Wear your CALF pass Sunday and enter the Abilene Zoo for free for additional festival programming and animal encounters!
LOCATION:T&P Depot\, 1101 N. 1st St\, Abilene\, TX 79601
UID:e.3433.5321
SEQUENCE:3
DTSTAMP:20260421T064536Z
URL:https://business.abilenechamber.com/events/details/12th-children-s-art-literacy-festival-5321
END:VEVENT

END:VCALENDAR
