BEGIN:VCALENDAR
VERSION:2.0
PRODID:-//ChamberMaster//Event Calendar 2.0//EN
METHOD:PUBLISH
X-PUBLISHED-TTL:P3D
REFRESH-INTERVAL:P3D
CALSCALE:GREGORIAN
BEGIN:VEVENT
DTSTART:20191121T230000Z
DTEND:20191122T003000Z
X-MICROSOFT-CDO-ALLDAYEVENT:FALSE
SUMMARY:11.21.19 Business After Hours Sponsored by Security Title & PrimeLending
DESCRIPTION:Monthly evening social business networking event. Open to sponsor employees and guests\, Chamber members and prospective members. Features a short sponsor presentation\, food/beverages\, update on Chamber activities and door prizes.
X-ALT-DESC;FMTTYPE=text/html:Monthly evening social business networking event. Open to sponsor employees and guests\, Chamber members and prospective members. Features a short sponsor presentation\, food/beverages\, update on Chamber activities and door prizes.
LOCATION:4400 Buffalo Gap Rd\, Ste. 1100 Abilene\, Texas 79606
UID:e.3433.3677
SEQUENCE:3
DTSTAMP:20260423T144457Z
URL:https://business.abilenechamber.com/events/details/11-21-19-business-after-hours-sponsored-by-security-title-primelending-3677
END:VEVENT

END:VCALENDAR
