BEGIN:VCALENDAR
VERSION:2.0
PRODID:-//ChamberMaster//Event Calendar 2.0//EN
METHOD:PUBLISH
X-PUBLISHED-TTL:P3D
REFRESH-INTERVAL:P3D
CALSCALE:GREGORIAN
BEGIN:VEVENT
DTSTART:20191114T170000Z
DTEND:20191115T000000Z
X-MICROSOFT-CDO-ALLDAYEVENT:FALSE
SUMMARY:11.14.19 Abilene Young Professionals Leadership Summit
DESCRIPTION:This event is SOLD OUT. To be placed on the waiting list\, click here.\n\n\n\nThe first of its kind in West Texas\, join us for the Abilene Young Professionals Leadership & Development Summit. Activate curiosity and cultivate professional\, personal and community growth through intentional development.\n\n\n\n"AYP Leadership Summit is a conference designed to catalyze personal and professional develop and to assist those interested in growing and empowering a strong Abilene community. This event will not only help expand your professional network\, but\, you'll walk away leading with a purpose\, and adding value to your organization and to your career." - Samantha Baker\, First Financial Bank
X-ALT-DESC;FMTTYPE=text/html:<p class="font_8" style="font-size:19px\; line-height:1.6em\; text-align:center"><strong><span style="color:#FF0000\;"><span style="font-family:raleway\,sans-serif">This event is SOLD OUT. To be placed on the waiting list\, <a href="mailto:laurin@abilenechamber.com?subject=AYP%20Leadership%20Summit">click here.</a></span></span></strong><br />\n<br />\n<span style="color:#000000"><span style="font-family:raleway\,sans-serif">The first of its kind in West Texas\, join us for the&nbsp\;Abilene Young Professionals Leadership &amp\; Development Summit. Activate curiosity and cultivate professional\, personal and community growth through intentional development.</span></span><br />\n<br />\n<span style="font-size:12px\;"><em><span style="color: rgb(27\, 27\, 30)\; font-family: raleway\, sans-serif\; text-align: center\;">&quot\;AYP Leadership Summit is a conference designed to catalyze personal and professional develop and to assist those interested in growing and empowering a strong Abilene community. This event will not only help expand your professional network\, but\, you&rsquo\;ll walk away leading with a purpose\, and adding value to your organization and to your career.&quot\; - Samantha Baker\, First Financial Bank</span></em></span><br />\n<br />\n&nbsp\;</p>\n
LOCATION:Abilene Convention Center
UID:e.3433.3741
SEQUENCE:3
DTSTAMP:20260423T144458Z
URL:https://business.abilenechamber.com/events/details/11-14-19-abilene-young-professionals-leadership-summit-3741
END:VEVENT

END:VCALENDAR
