BEGIN:VCALENDAR
VERSION:2.0
PRODID:-//ChamberMaster//Event Calendar 2.0//EN
METHOD:PUBLISH
X-PUBLISHED-TTL:P3D
REFRESH-INTERVAL:P3D
CALSCALE:GREGORIAN
BEGIN:VEVENT
DTSTART:20250314T160000Z
DTEND:20250314T170000Z
X-MICROSOFT-CDO-ALLDAYEVENT:FALSE
SUMMARY:10th Anniversary - Vintage Marketplace
DESCRIPTION:Come join us as we celebrate Vintage Marketplace on their 10 Year Anniversary!
X-ALT-DESC;FMTTYPE=text/html:Come join us as we celebrate Vintage Marketplace on their 10 Year Anniversary!
LOCATION:1433 South 1st Street Abilene\, TX 79602
UID:e.3433.5570
SEQUENCE:3
DTSTAMP:20260423T145532Z
URL:https://business.abilenechamber.com/events/details/10th-anniversary-vintage-marketplace-5570
END:VEVENT

END:VCALENDAR
