BEGIN:VCALENDAR
VERSION:2.0
PRODID:-//ChamberMaster//Event Calendar 2.0//EN
METHOD:PUBLISH
X-PUBLISHED-TTL:P3D
REFRESH-INTERVAL:P3D
CALSCALE:GREGORIAN
BEGIN:VEVENT
DTSTART:20221005T130000Z
DTEND:20221005T140000Z
X-MICROSOFT-CDO-ALLDAYEVENT:FALSE
SUMMARY:10.5.22 Wake Up Wednesday Sponsored by Tolar Systems
DESCRIPTION:Mix and mingle over coffee and breakfast pastries this Wednesday! Sponsored by Tolar Systems\, this monthly Chamber networking event is open to our sponsor's employees and guests\, Chamber members and prospective members. This event features a short sponsor presentation\, food/beverages\, update on Chamber activities and door prizes.\n\nPlease note: This event is being photographed and/or videotaped and your image may be used in connection with the advertising and pro\n\nPlease note: This event is being photographed and/or videotaped and your image may be used in connection with the advertising and promotion of the Abilene Chamber of Commerce.
X-ALT-DESC;FMTTYPE=text/html:<p style="box-sizing: border-box\; overflow-wrap: break-word\; margin-top: 0px\; margin-bottom: 30px\; color: rgb(34\, 34\, 34)\; font-family: Montserrat\, Helvetica\, Arial\, sans-serif\; font-size: 16px\;">Mix and mingle over coffee and breakfast pastries this Wednesday! Sponsored by Tolar Systems\, this monthly Chamber networking event is open to our sponsor&#39\;s employees and guests\, Chamber members and prospective members. This event features a short sponsor presentation\, food/beverages\, update on Chamber activities and door prizes.</p>\n\n<p class="xxxmsonormal" style="box-sizing: border-box\; overflow-wrap: break-word\; margin-top: 0px\; margin-bottom: 30px\; color: rgb(34\, 34\, 34)\; font-family: Montserrat\, Helvetica\, Arial\, sans-serif\; font-size: 16px\; background-image: initial\; background-position: initial\; background-size: initial\; background-repeat: initial\; background-attachment: initial\; background-origin: initial\; background-clip: initial\;"><span style="box-sizing: border-box\; font-family: arial\, sans-serif\; font-size: 9.33333px\;">Please note: This event is being photographed and/or videotaped and your image may be used in connection with the advertising and pro</span></p>\n\n<p class="xxxmsonormal" style="background-image: initial\; background-position: initial\; background-size: initial\; background-repeat: initial\; background-attachment: initial\; background-origin: initial\; background-clip: initial\;"><span style="font-family: arial\, sans-serif\; font-size: 9.33333px\;">Please note: This event is being photographed and/or videotaped and your image may be used in connection with the advertising and promotion of the Abilene Chamber of Commerce.</span></p>\n
LOCATION:Abilene Women's Club 3425 S 14th Street\, Abilene\, TX 79605
UID:e.3433.4719
SEQUENCE:3
DTSTAMP:20260425T114445Z
URL:https://business.abilenechamber.com/events/details/10-5-22-wake-up-wednesday-sponsored-by-tolar-systems-4719
END:VEVENT

END:VCALENDAR
