BEGIN:VCALENDAR
VERSION:2.0
PRODID:-//ChamberMaster//Event Calendar 2.0//EN
METHOD:PUBLISH
X-PUBLISHED-TTL:P3D
REFRESH-INTERVAL:P3D
CALSCALE:GREGORIAN
BEGIN:VEVENT
DTSTART:20221020T220000Z
DTEND:20221020T233000Z
X-MICROSOFT-CDO-ALLDAYEVENT:FALSE
SUMMARY:10.20.22 Business After Hours Sponsored by Courtyard Southwest / Abilene Mall
DESCRIPTION:Monthly evening social business networking event. Open to sponsor\, employees and guests\, Chamber members and prospective members. Features a short sponsor presentation\, food/beverages\, update on Chamber activities and door prizes.\n\n\n\nPlease note: This event is being photographed and/or videotaped and your image may be used in connection with the advertising and promotion of the Abilene Chamber of Commerce.
X-ALT-DESC;FMTTYPE=text/html:<span style="font-family:arial\;"><span style="box-sizing: border-box\; color: rgb(34\, 34\, 34)\; font-size: 14px\;">Monthly evening social business networking event. Open to sponsor\, employees and guests\, Chamber members and prospective members. Features a short sponsor presentation\, food/beverages\, update on Chamber activities and door prizes.</span><br style="box-sizing: border-box\; color: rgb(34\, 34\, 34)\; font-family: Montserrat\, Helvetica\, Arial\, sans-serif\; font-size: 16px\;" />\n<br style="box-sizing: border-box\; color: rgb(34\, 34\, 34)\; font-family: Montserrat\, Helvetica\, Arial\, sans-serif\; font-size: 16px\;" />\n<span style="box-sizing: border-box\; color: rgb(34\, 34\, 34)\; font-size: 16px\; background-image: initial\; background-position: initial\; background-size: initial\; background-repeat: initial\; background-attachment: initial\; background-origin: initial\; background-clip: initial\;"><span style="box-sizing: border-box\;"><span style="box-sizing: border-box\; font-size: 7pt\;">Please note: This event is being photographed and/or videotaped and your image may be used in connection with the advertising and promotion of the Abilene Chamber of Commerce.</span></span></span></span>
LOCATION:Courtyard by Marriott Abilene Southwest/Abilene Mall South 4350 Ridgemont Dr\, Abilene\, TX 79606
UID:e.3433.4764
SEQUENCE:3
DTSTAMP:20260425T114820Z
URL:https://business.abilenechamber.com/events/details/10-20-22-business-after-hours-sponsored-by-courtyard-southwest-abilene-mall-4764
END:VEVENT

END:VCALENDAR
