BEGIN:VCALENDAR
VERSION:2.0
PRODID:-//ChamberMaster//Event Calendar 2.0//EN
METHOD:PUBLISH
X-PUBLISHED-TTL:P3D
REFRESH-INTERVAL:P3D
CALSCALE:GREGORIAN
BEGIN:VEVENT
DTSTART:20191002T130000Z
DTEND:20191002T140000Z
X-MICROSOFT-CDO-ALLDAYEVENT:FALSE
SUMMARY:10.2.19 Wake Up Wednesday Sponsored by Gildersleeve Insurance Services & Benefits Consulting and Hoffman Insurance Services
DESCRIPTION:Monthly morning social business networking event. Open to sponsor employees and guests\, Chamber members and prospective members. Features a short sponsor presentation\, food/beverages\, update on Chamber activities and door prizes.
X-ALT-DESC;FMTTYPE=text/html:Monthly morning social business networking event. Open to sponsor employees and guests\, Chamber members and prospective members. Features a short sponsor presentation\, food/beverages\, update on Chamber activities and door prizes.
LOCATION:Abilene Woman's Club 3425 S. 14th St. Abilene\, Texas 79605
UID:e.3433.3687
SEQUENCE:3
DTSTAMP:20260423T173432Z
URL:https://business.abilenechamber.com/events/details/10-2-19-wake-up-wednesday-sponsored-by-gildersleeve-insurance-services-benefits-consulting-and-hoffman-insurance-services-3687
END:VEVENT

END:VCALENDAR
