BEGIN:VCALENDAR
VERSION:2.0
PRODID:-//ChamberMaster//Event Calendar 2.0//EN
METHOD:PUBLISH
X-PUBLISHED-TTL:P3D
REFRESH-INTERVAL:P3D
CALSCALE:GREGORIAN
BEGIN:VEVENT
DTSTART:20221018T223000Z
DTEND:20221019T000000Z
X-MICROSOFT-CDO-ALLDAYEVENT:FALSE
SUMMARY:10.18.22 AYP After Five sponsored by First Financial Bank
DESCRIPTION:We've been keeping a secret. Something\, someone BIG is coming to our next AYP After Five. Join us at Potosi Live on Oct. 18 sponsored by First Financial Bank. Who's ready to mingle with friends\, meet our special guest\, and enhance your network? \n\n\n\nPlease note: This event is being photographed and/or videotaped and your image may be used in connection with the advertising and promotion of the Abilene Chamber of Commerce.\n\n \n\n\n\n\n\n\n\n\n\nSafety Protocols \n\nHere at the Abilene Chamber\, we're committed to creating and providing an environment where you feel comfortable but also have the freedom to do business.
X-ALT-DESC;FMTTYPE=text/html:<div data-block="true" data-editor="idcs" data-offset-key="7ea6n-0-0" style="font-family: Helvetica\, Arial\, sans-serif\; color: rgb(28\, 30\, 33)\; font-size: 12px\; white-space: pre-wrap\; background-color: rgb(255\, 255\, 255)\;">\n<div class="_1mf _1mj" data-offset-key="7ea6n-0-0" style="position: relative\; direction: ltr\; font-family: inherit\;"><span style="font-size:16px\;"><span style="color: rgb(31\, 31\, 31)\; white-space: pre-wrap\;">We&rsquo\;ve been keeping a secret. Something\, someone BIG is coming to our next AYP After Five. Join us at Potosi Live on </span><span style="white-space: pre-wrap\; font-weight: bold\; color: rgb(82\, 49\, 130)\;">Oct. 18</span><span style="color: rgb(31\, 31\, 31)\; white-space: pre-wrap\;"> sponsored by First Financial Bank. </span>Who&rsquo\;s ready to mingle with friends\, meet our special guest\, and enhance your network?&nbsp\;</span><br />\n<br />\n<span style="font-family:arial\;"><span style="box-sizing: border-box\; outline: 0px\;"><span style="box-sizing: border-box\; outline: 0px\; font-size: 9.33333px\;">Please note: This event is being photographed and/or videotaped and your image may be used in connection with the advertising and promotion of the Abilene Chamber of Commerce.</span></span></span><br />\n&nbsp\;</div>\n</div>\n\n<div data-block="true" data-editor="idcs" data-offset-key="g8ca-0-0" style="font-family: Helvetica\, Arial\, sans-serif\; color: rgb(28\, 30\, 33)\; font-size: 12px\; white-space: pre-wrap\; background-color: rgb(255\, 255\, 255)\;">\n<div class="_1mf _1mj" data-offset-key="g8ca-0-0" style="position: relative\; direction: ltr\; font-family: inherit\;">\n<div class="row gz-banner" style="box-sizing: border-box\; display: flex\; flex-wrap: wrap\; margin-right: -15px\; margin-left: -15px\; text-align: center\; color: rgb(34\, 34\, 34)\; font-family: Montserrat\, Helvetica\, Arial\, sans-serif\; font-size: 16px\;">\n<div class="col" style="box-sizing: border-box\; position: relative\; width: 1220px\; min-height: 1px\; padding-right: 15px\; padding-left: 15px\; flex-basis: 0px\; flex-grow: 1\; max-width: 100%\;">\n<div class="row gz-event-description" itemprop="about" style="box-sizing: border-box\; display: flex\; flex-wrap: wrap\; margin-right: -15px\; margin-left: -15px\; outline: 0px\; color: rgb(34\, 34\, 34)\; font-family: Montserrat\, Helvetica\, Arial\, sans-serif\; font-size: 16px\;">\n<div class="col" style="box-sizing: border-box\; position: relative\; width: 1220px\; min-height: 1px\; padding-right: 15px\; padding-left: 15px\; flex-basis: 0px\; flex-grow: 1\; max-width: 100%\; outline: 0px\;">\n<div>\n<div style="box-sizing: border-box\; color: rgb(0\, 0\, 0)\; font-family: Arial\, Verdana\, Helvetica\, sans-serif\; font-size: 14px\; white-space: pre-wrap\; text-align: left\;"><span style="font-family:arial\;"><span style="font-size:12px\;"><span style="box-sizing: border-box\; color: rgb(234\, 44\, 37)\; font-weight: bold\;">Safety Protocols </span></span></span></div>\n\n<div style="box-sizing: border-box\; color: rgb(0\, 0\, 0)\; font-family: Arial\, Verdana\, Helvetica\, sans-serif\; font-size: 14px\; white-space: pre-wrap\; text-align: left\;"><span style="font-family:arial\;"><span style="font-size:12px\;"><span style="box-sizing: border-box\; color: rgb(28\, 30\, 33)\;">Here at the Abilene Chamber\, we&rsquo\;re committed to creating and providing an environment where you feel comfortable but also have the freedom to do business. </span></span></span></div>\n</div>\n</div>\n</div>\n\n<div class="row gz-footer-navigation" role="navigation" style="box-sizing: border-box\; display: flex\; flex-wrap: wrap\; margin: 40px 0px\; font-size: 13.6px\; color: rgb(34\, 34\, 34)\; font-family: Montserrat\, Helvetica\, Arial\, sans-serif\; text-align: left\;">&nbsp\;</div>\n</div>\n</div>\n</div>\n</div>\n
LOCATION:Potosi Live 897 FM1750 Abilene\, Texas 79602
UID:e.3433.4804
SEQUENCE:3
DTSTAMP:20260425T114741Z
URL:https://business.abilenechamber.com/events/details/10-18-22-ayp-after-five-sponsored-by-first-financial-bank-4804
END:VEVENT

END:VCALENDAR
