BEGIN:VCALENDAR
VERSION:2.0
PRODID:-//ChamberMaster//Event Calendar 2.0//EN
METHOD:PUBLISH
X-PUBLISHED-TTL:P3D
REFRESH-INTERVAL:P3D
CALSCALE:GREGORIAN
BEGIN:VEVENT
DTSTART:20191017T220000Z
DTEND:20191017T233000Z
X-MICROSOFT-CDO-ALLDAYEVENT:FALSE
SUMMARY:10.17.19 Business After Hours Sponsored by Pappy Slokum Brewing Co.
DESCRIPTION:Monthly evening social business networking event. Open to sponsor employees and guests\, Chamber members and prospective members. Features a short sponsor presentation\, food/beverages\, update on Chamber activities and door prizes.
X-ALT-DESC;FMTTYPE=text/html:Monthly evening social business networking event. Open to sponsor employees and guests\, Chamber members and prospective members. Features a short sponsor presentation\, food/beverages\, update on Chamber activities and door prizes.
LOCATION:409 S. Treadaway Abilene\, Texas 79602
UID:e.3433.3676
SEQUENCE:3
DTSTAMP:20260423T160808Z
URL:https://business.abilenechamber.com/events/details/10-17-19-business-after-hours-sponsored-by-pappy-slokum-brewing-co-3676
END:VEVENT

END:VCALENDAR
