BEGIN:VCALENDAR
VERSION:2.0
PRODID:-//ChamberMaster//Event Calendar 2.0//EN
METHOD:PUBLISH
X-PUBLISHED-TTL:P3D
REFRESH-INTERVAL:P3D
CALSCALE:GREGORIAN
BEGIN:VEVENT
DTSTART:20221111T170000Z
DTEND:20221111T180000Z
X-MICROSOFT-CDO-ALLDAYEVENT:FALSE
SUMMARY:1 Year Anniversary - Apricot Lane Boutique
DESCRIPTION:
X-ALT-DESC;FMTTYPE=text/html:
LOCATION:2507 N. Judge Ely Blve (Allen Ridge) Abilene\, TX 79601
UID:e.3433.4820
SEQUENCE:3
DTSTAMP:20260423T112231Z
URL:https://business.abilenechamber.com/events/details/1-year-anniversary-apricot-lane-boutique-4820
END:VEVENT

END:VCALENDAR
