BEGIN:VCALENDAR
VERSION:2.0
PRODID:-//ChamberMaster//Event Calendar 2.0//EN
METHOD:PUBLISH
X-PUBLISHED-TTL:P3D
REFRESH-INTERVAL:P3D
CALSCALE:GREGORIAN
BEGIN:VEVENT
DTSTART:20190905T223000Z
DTEND:20190906T000000Z
X-MICROSOFT-CDO-ALLDAYEVENT:FALSE
SUMMARY:09.05.19 AYP After Five sponsored by Funeral Directors Life
DESCRIPTION:AYP After Five is a monthly networking event where young professionals in Abilene come together to make personal and professional connections.
X-ALT-DESC;FMTTYPE=text/html:<span style="color: rgb(0\, 0\, 0)\; font-family: &quot\;open sans&quot\;\, sans-serif\; font-size: 14px\; text-align: center\;">AYP After Five is a monthly networking event where young professionals in Abilene come together to make personal and professional connections.</span>
LOCATION:Abilene Axe 150 Locust St. Suite C
UID:e.3433.3763
SEQUENCE:3
DTSTAMP:20260423T183646Z
URL:https://business.abilenechamber.com/events/details/09-05-19-ayp-after-five-sponsored-by-funeral-directors-life-3763
END:VEVENT

END:VCALENDAR
