BEGIN:VCALENDAR
VERSION:2.0
PRODID:-//ChamberMaster//Event Calendar 2.0//EN
METHOD:PUBLISH
X-PUBLISHED-TTL:P3D
REFRESH-INTERVAL:P3D
CALSCALE:GREGORIAN
BEGIN:VEVENT
DTSTART:20210824T163000Z
DTEND:20210824T180000Z
X-MICROSOFT-CDO-ALLDAYEVENT:FALSE
SUMMARY:08.24.21 ABIChat Luncheon Sponsored by Holland Hearing
DESCRIPTION:Join AYP for ABICHAT! A luncheon series that occurs once a quarter for Abilene Young Professionals. Hear from community leaders in an intimate setting as they share their stories of how they made their mark and how others can do the same. Tickets available to 60 young professionals and are first come\, first served and are nonrefundable.\n\n\n\nOur second series for 2021 sponsored by Holland Hearing Center\, will feature a well-rounded group of individuals who are involved heavily in the agriculture industry. Hear from Amanda Hatchett\, Hatchett & Co. Real Estate\; Brandi Terry\, Cisco College\; Ross Vinson\, Lone Star Ag Credit\; Lauren Decker\, Rolling Plains Cotton Growers\, Inc.\; as they share the one billion dollar impact the ag industry has on the Big Country\, how the agriculture industry gives back to the community\, and how you can support those who provide food and fiber for our everyday lives. \n\n\n\n\n\n\n\nLUNCH: Please email with any dietary restrictions \n\nQuestions? Email laurin@abilenechamber.com\n\n\n\nABOUT OUR SPEAKERS:\n\nAmanda Hatchett: Big Country native\, Amanda is the proud Broker/Owners of Hatchett & Co. Real Estate\, which her father-in-law\, Jim Hatchett Jr.\, started almost 35 years ago in Abilene. Amanda's knowledge in agriculture is vast having spent majority of her time working with her family at their two feed stores Jackson Bros. Feed and Seed and Acco Farm & Ranch Center. She has a Bachelor of Science in Animal Science from Texas A&M University and her and her husband of 13 years live at and operate Denton Valley Farms\n\n \n\nBrandi Terry: Brandi serves the agriculture industry in many ways. She has been an Agriculture Professor at Cisco College for 10 years and is the Division Chair for Agriculture and Business. A graduate from Texas A&M University with a B.S. in Animal Science and Tarleton State University with a M.S. in Agriculture\, Brandi also owns b. marie bakery and Farm to Baked. Her most recent adventure includes a local boutique brokerage and residential land professional putting her knowledge and experience into helping folks find the property of their dreams.\n\n\n\nRoss Vinson: Abilene\, Texas\, Native\, Ross graduated from Tarleton State University in May of 2017. Upon graduation\, Ross moved back to Abilene to work for his family's company\, Abilene Ag Service & Supply. After worked within the family business for two years\, Ross then took an opportunity to work for Lone Star Ag Credit as a Lone Officer.  \n\n\n\nLauren Decker: Lauren grew up on her family's ranching operation in Breckenridge. A product of Texas 4-H and showing Hereford cattle\, her love of agriculture runs deep. After graduation from Texas A&M in 2005\, Lauren moved to Washington\, DC where she spent almost a decade working in agriculture policy for the US beef industry and the US rice industry. In 2018\, she took over the helm of the Rolling Plains Cotton Growers as Executive Vice President where she represents 1 million acres of cotton production in 31 counties across the area.
X-ALT-DESC;FMTTYPE=text/html:<span style="background:white\;"><span style="color:#1D2129\;"><span style="font-family:helvetica\,sans-serif\;"><span style="font-size:10.5pt\;">Join AYP for ABICHAT! A luncheon series that occurs once a quarter for Abilene Young Professionals. Hear from community leaders in an intimate setting as they share their stories of how they made their mark and how others can do the same. Tickets available to 60 young professionals and are first come\, first served and are nonrefundable.</span></span></span></span><br style="font-variant-ligatures:normal\;font-variant-caps:normal\;orphans:2\;text-align:start\;widows:2\;-webkit-text-stroke-width:0px\;text-decoration-thickness:initial\;text-decoration-style:initial\;white-space:pre-wrap\;word-spacing:0px\;" />\n<br style="font-variant-ligatures:normal\;font-variant-caps:normal\;orphans:2\;text-align:start\;widows:2\;-webkit-text-stroke-width:0px\;text-decoration-thickness:initial\;text-decoration-style:initial\;white-space:pre-wrap\;word-spacing:0px\;" />\n<span style="color:#1D2129\;"><span style="font-family:helvetica\,sans-serif\;"><span style="font-size:10.5pt\;"><span style="background:white\;"><span style="font-variant-ligatures:normal\;font-variant-caps:normal\;orphans:2\;text-align:start\;widows:2\;-webkit-text-stroke-width:0px\;text-decoration-thickness:initial\;text-decoration-style:initial\;white-space:pre-wrap\;word-spacing:0px\;">Our second series for 2021 sponsored by Holland Hearing Center\, will feature a well-rounded group of individuals who are involved heavily in the agriculture industry. Hear from Amanda Hatchett\, Hatchett &amp\; Co. Real Estate\; Brandi Terry\, Cisco College\; Ross Vinson\, Lone Star Ag Credit\; Lauren Decker\, Rolling Plains Cotton Growers\, Inc.\; as they share the one billion dollar impact the ag industry has on the Big Country\, how the agriculture industry gives back to the community\, and how you can support those who provide food and fiber for our everyday lives. </span></span></span></span></span><br style="font-variant-ligatures:normal\;font-variant-caps:normal\;orphans:2\;text-align:start\;widows:2\;-webkit-text-stroke-width:0px\;text-decoration-thickness:initial\;text-decoration-style:initial\;word-spacing:0px\;" />\n<br style="font-variant-ligatures:normal\;font-variant-caps:normal\;orphans:2\;text-align:start\;widows:2\;-webkit-text-stroke-width:0px\;text-decoration-thickness:initial\;text-decoration-style:initial\;word-spacing:0px\;" />\n<br style="font-variant-ligatures:normal\;font-variant-caps:normal\;orphans:2\;text-align:start\;widows:2\;-webkit-text-stroke-width:0px\;text-decoration-thickness:initial\;text-decoration-style:initial\;word-spacing:0px\;" />\n<br style="font-variant-ligatures:normal\;font-variant-caps:normal\;orphans:2\;text-align:start\;widows:2\;-webkit-text-stroke-width:0px\;text-decoration-thickness:initial\;text-decoration-style:initial\;white-space:pre-wrap\;word-spacing:0px\;" />\n<span style="background:white\;"><span style="color:#333333\;"><span style="font-family:arial\,sans-serif\;"><span style="font-size:10.5pt\;"><span style="font-variant-ligatures:normal\;font-variant-caps:normal\;orphans:2\;text-align:start\;widows:2\;-webkit-text-stroke-width:0px\;text-decoration-thickness:initial\;text-decoration-style:initial\;word-spacing:0px\;">LUNCH: Please email with any dietary restrictions&nbsp\;</span></span></span></span></span><br style="font-variant-ligatures:normal\;font-variant-caps:normal\;orphans:2\;text-align:start\;widows:2\;-webkit-text-stroke-width:0px\;text-decoration-thickness:initial\;text-decoration-style:initial\;word-spacing:0px\;" />\n<span style="color:#333333\;"><span style="font-family:arial\,sans-serif\;"><span style="font-size:10.5pt\;"><span style="background:white\;"><span style="font-variant-ligatures:normal\;font-variant-caps:normal\;orphans:2\;text-align:start\;widows:2\;-webkit-text-stroke-width:0px\;text-decoration-thickness:initial\;text-decoration-style:initial\;word-spacing:0px\;">Questions? Email&nbsp\;<a href="mailto:laurin@abilenechamber.com" style="text-decoration-line:none\;cursor:pointer\;" target="_blank"><span style="color:#0782C1\;">laurin@abilenechamber.com</span></a><br />\n<br />\n<strong><span style="font-family:arial\,sans-serif\;">ABOUT OUR SPEAKERS:</span></strong></span></span><br />\n<span style="font-size:12px\;"><span style="font-family:arial\;"><strong><span style="font-variant-ligatures:normal\;font-variant-caps:normal\;orphans:2\;text-align:start\;widows:2\;-webkit-text-stroke-width:0px\;text-decoration-thickness:initial\;text-decoration-style:initial\;word-spacing:0px\;">Amanda Hatchett:</span></strong><span style="background:white\;"><span style="color:#333333\;">&nbsp\;Big Country native\, Amanda is the proud Broker/Owners of Hatchett &amp\; Co. Real Estate\, which her father-in-law\, Jim Hatchett Jr.\, started almost 35 years ago in Abilene. Amanda&rsquo\;s knowledge in agriculture is vast having spent majority of her time working with her family at their two feed stores Jackson Bros. Feed and Seed and Acco Farm &amp\; Ranch Center. She has a Bachelor of Science in Animal Science from Texas A&amp\;M University and her and her husband of 13 years live at and operate Denton Valley Farms</span></span><br />\n&nbsp\;<br />\n<strong><span style="color:#0A0B14\;">Brandi Terry:&nbsp\;</span></strong><span style="border:none windowtext 1.0pt\;padding:0in\;"><span style="color:#333333\;">Brandi serves the agriculture industry in many ways. She has been an Agriculture Professor at Cisco College for 10 years and is the Division Chair for Agriculture and Business. A graduate from Texas A&amp\;M University with a B.S. in Animal Science and Tarleton State University with a M.S. in Agriculture\, Brandi also owns&nbsp\;</span></span><span style="border:none windowtext 1.0pt\;padding:0in\;"><span style="color:black\;">b. marie bakery and Farm to Baked.&nbsp\;</span></span><span style="color:#333333\;">Her most recent adventure includes a local boutique brokerage and residential land professional putting her knowledge and experience into helping folks find the property of their dreams.<br />\n<br />\n<strong><strong>Ross Vinson:</strong></strong>&nbsp\;Abilene\, Texas\, Native\, Ross graduated from Tarleton State University in May of 2017. Upon graduation\, Ross moved back to Abilene to work for his family&rsquo\;s company\, Abilene Ag Service &amp\; Supply. After worked within the family business for two years\, Ross then took an opportunity to work for Lone Star Ag Credit as a Lone Officer. &nbsp\;</span></span></span></span></span></span><br />\n<br />\n<strong><span style="color:#333333\;"><span style="font-family:arial\,sans-serif\;"><span style="font-size:9.0pt\;">Lauren Decker:</span></span></span></strong><span style="color:#333333\;"><span style="font-family:arial\,sans-serif\;"><span style="font-size:9.0pt\;"> Lauren grew up</span></span></span> on her family&rsquo\;s ranching operation in Breckenridge. A product of Texas 4-H and showing Hereford cattle\, her love of agriculture runs deep. After graduation from Texas A&amp\;M in 2005\, Lauren moved to Washington\, DC where she spent almost a decade working in agriculture policy for the US beef industry and the US rice industry. In 2018\, she took over the helm of the Rolling Plains Cotton Growers as Executive Vice President where she represents 1 million acres of cotton production in 31 counties across the area.<br />\n&nbsp\;
LOCATION:Funeral Directors Life 6550 Directors Pkwy
UID:e.3433.4431
SEQUENCE:3
DTSTAMP:20260424T011053Z
URL:https://business.abilenechamber.com/events/details/08-24-21-abichat-luncheon-sponsored-by-holland-hearing-4431
END:VEVENT

END:VCALENDAR
