BEGIN:VCALENDAR
VERSION:2.0
PRODID:-//ChamberMaster//Event Calendar 2.0//EN
METHOD:PUBLISH
X-PUBLISHED-TTL:P3D
REFRESH-INTERVAL:P3D
CALSCALE:GREGORIAN
BEGIN:VEVENT
DTSTART:20210817T163000Z
DTEND:20210817T180000Z
X-MICROSOFT-CDO-ALLDAYEVENT:FALSE
SUMMARY:08.17.21 Hispanic Business Council Luncheon hosted by America's SBDC at Texas Tech
DESCRIPTION:Join us for our August Hispanic Business Council Luncheon! This luncheon will be hosted by America's SBDC at Texas Tech and will feature a seminar from their team about the importance of a business plan. Come out and enjoy networking\, learn more about the services the SBDC offers\, and work on your business! \n\n\n\n*Must RSVP by end of day Friday\, Aug. 13 so we can have a proper headcount for food.
X-ALT-DESC;FMTTYPE=text/html:Join us for our August Hispanic Business Council Luncheon! This luncheon will be hosted by America&#39\;s SBDC at Texas Tech and will feature a seminar from their team about the importance of a business plan. Come out and enjoy networking\, learn more about the services the SBDC offers\, and work on your business!&nbsp\;<br />\n<br />\n*Must RSVP by end of day Friday\, Aug. 13 so we can have a proper headcount for food.&nbsp\;
LOCATION:America's SBDC at Texas Tech 749 Gateway St. #301 Building C Abilene\, Texas 79602
UID:e.3433.4447
SEQUENCE:3
DTSTAMP:20260423T235328Z
URL:https://business.abilenechamber.com/events/details/08-17-21-hispanic-business-council-luncheon-hosted-by-america-s-sbdc-at-texas-tech-4447
END:VEVENT

END:VCALENDAR
