BEGIN:VCALENDAR
VERSION:2.0
PRODID:-//ChamberMaster//Event Calendar 2.0//EN
METHOD:PUBLISH
X-PUBLISHED-TTL:P3D
REFRESH-INTERVAL:P3D
CALSCALE:GREGORIAN
BEGIN:VEVENT
DTSTART:20240807T130000Z
DTEND:20240807T140000Z
X-MICROSOFT-CDO-ALLDAYEVENT:FALSE
SUMMARY:08.07.24The Morning Edge Sponsored by Stages of Recovery
DESCRIPTION:Please join us for our our new networking series\, The Morning Edge! Formerly known as Wake Up Wednesday\, this event series has been redesigned to allow connections over coffee and provide our members a relevant takeaway that supports business. This event is sponsored by our friends at Stages of Recovery.\n\n\n\nThis monthly Chamber networking event is open to our sponsor's employees and guests\, Chamber members and prospective members. Please join us for our new networking series where there will be hot coffee\, breakfast\, Chamber updates\, and door prizes! \nPlease note: This event is being photographed and/or videotaped and your image may be used in connection with the advertising and promotion of the Abilene Chamber of Commerce.
X-ALT-DESC;FMTTYPE=text/html:Please join us for our our new networking series\, The Morning Edge! Formerly known as Wake Up Wednesday\, this event series has been redesigned to allow connections over coffee and provide our members a relevant takeaway that supports business. This event is sponsored by our friends at Stages of Recovery.<br />\n<br />\nThis monthly Chamber networking event is open to our sponsor&#39\;s employees and guests\, Chamber members and prospective members. Please join us for our new networking series where there will be hot coffee\, breakfast\, Chamber updates\, and door prizes!&nbsp\;\n<p class="xxxmsonormal" style="background-image: initial\; background-position: initial\; background-size: initial\; background-repeat: initial\; background-attachment: initial\; background-origin: initial\; background-clip: initial\;"><span style="font-family: arial\, sans-serif\; font-size: 9.33333px\;">Please note: This event is being photographed and/or videotaped and your image may be used in connection with the advertising and promotion of the Abilene Chamber of Commerce.</span></p>\n
LOCATION:Abilene Woman's Club.
UID:e.3433.5158
SEQUENCE:3
DTSTAMP:20260420T230742Z
URL:https://business.abilenechamber.com/events/details/08-07-24the-morning-edge-sponsored-by-stages-of-recovery-5158
END:VEVENT

END:VCALENDAR
