BEGIN:VCALENDAR
VERSION:2.0
PRODID:-//ChamberMaster//Event Calendar 2.0//EN
METHOD:PUBLISH
X-PUBLISHED-TTL:P3D
REFRESH-INTERVAL:P3D
CALSCALE:GREGORIAN
BEGIN:VEVENT
DTSTART:20200805T130000Z
DTEND:20200805T140000Z
X-MICROSOFT-CDO-ALLDAYEVENT:FALSE
SUMMARY:08.05.20 Wake Up Wednesday Sponsored by McMurry University
DESCRIPTION:Monthly morning social business networking event. Open to sponsor\, employees and guests\, Chamber members and prospective members. Features a short sponsor presentation\, food/beverages\, update on Chamber activities and door prizes.\n\n\n\nAttendees must register by August 3rd. McMurry requires a health screening form be completed by all attendees prior to the event. A link will be sent to all registered attendees on August 3rd and will need to be completed no later than 5:00 pm on August 4th. \n\n\n\nSafety Protocols \n\nHere at the Abilene Chamber\, we're committed to creating and providing an environment where you feel comfortable. We know you're eager to get out and market your business so with guidance from local leadership\, our team will walk you through five principles we've adopted for upcoming events. It is our hope that with these principles\, our partners will be able to resume networking while creating a safe space for yourself and those around you. Click here for our video.\n\n	We're limiting the entrance of events to just one area so proper temperature checks and hand sanitation can take place before anyone enters the building.\n	To protect your health and the health of others\, masks will be required and will be on-hand for those who do not have one. We know that not all will feel comfortable in a mask\, but in order to get back to some sort of "normalcy" it's a step we feel that we need to take to help ensure you remain healthy.\n	Unsure if the person you're wanting to visit with is physically distancing? We'll have colored bracelets on-hand to help you communicate to those around you and which measures you are practicing. A red will mean no contact\, yellow elbows only while still being cautious\, blue hi-five and handshakes with frequent sanitizing.\n	We're boosting up our signage throughout events to help remind everyone in attendance of proper public health guidelines.\n\nProtecting the health and safety of everyone at our events is a shared responsibility and we know you as our valued partner stand ready to do your part. Let's take more steps toward economic recovery\, together. \n\n\n\nOn the day of the event\, if you have any of these symptoms\, please stay home and call your physician.\n\n(fever\, dry cough\, shortness of breath\, difficulty breathing\, chills\, repeated shaking with chills\, muscle pain\, headache\, sore throat\, loss of taste or smell or diarrhea)\n\n\n\nPlease note: This event is being photographed and/or videotaped and your image may be used in connection with the advertising and promotion of the Abilene Chamber of Commerce.
X-ALT-DESC;FMTTYPE=text/html:<span style="color: rgb(51\, 51\, 51)\; font-family: sans-serif\, Arial\, Verdana\, &quot\;Trebuchet MS&quot\;\; font-size: 13px\; background-color: rgb(255\, 255\, 255)\;">Monthly morning social business networking event. Open to sponsor\, employees and guests\, Chamber members and prospective members. Features a short sponsor presentation\, food/beverages\, update on Chamber activities and door prizes.</span><br />\n<br />\n<span style="font-size:12px\;">Attendees <strong>must register by August 3rd</strong>. McMurry requires a health screening form be completed by all attendees prior to the event. A link will be sent to all registered attendees on August 3rd and will need to be completed no later than 5:00 pm on August 4th.&nbsp\;</span><br />\n<br />\n<strong><span style="color:red\;"><span style="font-family:arial\,sans-serif\;"><span style="font-size:12.0pt\;">Safety Protocols&nbsp\;</span></span></span></strong><br />\n<span style="color:#141414\;"><span style="font-family:arial\,sans-serif\;"><span style="font-size:12.0pt\;">Here at the Abilene Chamber\, we&rsquo\;re committed to creating and providing an environment where you feel comfortable. We know you&rsquo\;re eager to get out and market your business so with guidance from local leadership\, our team will walk you through five principles we&rsquo\;ve adopted for upcoming events. It is our hope that with these principles\, our partners will be able to resume networking while creating a safe space for yourself and those around you.&nbsp\;</span></span></span><strong><span style="color:black\;"><span style="font-family:arial\,sans-serif\;"><span style="font-size:12.0pt\;"><a href="https://www.youtube.com/watch?v=vxs7Ia_cDcY"><span style="color:red\;">Click here</span></a></span></span></span></strong><span style="color:#141414\;"><span style="font-family:arial\,sans-serif\;"><span style="font-size:12.0pt\;">&nbsp\;for our video.</span></span></span>\n<ul>\n	<li style="color:#333333\;background:white\;"><span style="color:#141414\;"><span style="font-family:arial\,sans-serif\;"><span style="font-size:12.0pt\;">We&rsquo\;re limiting the entrance of events to just one area so proper temperature checks and hand sanitation can take place before anyone enters the building.</span></span></span></li>\n	<li style="color:#333333\;background:white\;"><span style="color:#141414\;"><span style="font-family:arial\,sans-serif\;"><span style="font-size:12.0pt\;">To protect your health and the health of others\, masks will be required and will be on-hand for those who do not have one.&nbsp\;We know that not all will feel comfortable in a mask\, but in order to get back to some sort of &ldquo\;normalcy&rdquo\; it&rsquo\;s a step we feel that we need to take to help ensure you remain healthy.</span></span></span></li>\n	<li style="color:#333333\;background:white\;"><span style="color:#141414\;"><span style="font-family:arial\,sans-serif\;"><span style="font-size:12.0pt\;">Unsure&nbsp\;if the person you&rsquo\;re wanting to visit with is physically distancing? We&rsquo\;ll have colored bracelets on-hand to help you communicate to those around you and which measures you are practicing. A red will mean no contact\, yellow elbows only while still being cautious\, blue hi-five and handshakes with frequent sanitizing.</span></span></span></li>\n	<li style="color:#333333\;background:white\;"><span style="color:#141414\;"><span style="font-family:arial\,sans-serif\;"><span style="font-size:12.0pt\;">We&rsquo\;re boosting up our signage throughout events to help remind everyone in attendance of proper public health guidelines.</span></span></span></li>\n</ul>\n<span style="color:#141414\;"><span style="font-family:arial\,sans-serif\;"><span style="font-size:12.0pt\;">Protecting the health and safety of everyone at our events is a shared responsibility and we know you as our valued partner stand ready to do your part. Let&rsquo\;s take more steps toward economic recovery\, together.&nbsp\;</span></span></span><br />\n<br />\n<span style="font-size:12px\;">On the day of the event\, if you have any of these symptoms\, please stay home and call your physician.<br />\n(fever\, dry cough\, shortness of breath\, difficulty breathing\, chills\, repeated shaking with chills\, muscle pain\, headache\, sore throat\, loss of taste or smell or diarrhea)</span><br />\n<br />\n<span style="color: rgb(51\, 51\, 51)\; font-family: sans-serif\, Arial\, Verdana\, &quot\;Trebuchet MS&quot\;\; font-size: 12px\; background-color: rgb(255\, 255\, 255)\;">Please note: This event is being photographed and/or videotaped and your image may be used in connection with the advertising and promotion of the Abilene Chamber of Commerce.</span>
LOCATION:McMurry University 1400 Sayles Blvd. Abilene\, Texas 79697 (We will be meeting in the Mabee Room\, located in the Garrison Campus Center)
UID:e.3433.3919
SEQUENCE:3
DTSTAMP:20260423T083202Z
URL:https://business.abilenechamber.com/events/details/08-05-20-wake-up-wednesday-sponsored-by-mcmurry-university-3919
END:VEVENT

END:VCALENDAR
