BEGIN:VCALENDAR
VERSION:2.0
PRODID:-//ChamberMaster//Event Calendar 2.0//EN
METHOD:PUBLISH
X-PUBLISHED-TTL:P3D
REFRESH-INTERVAL:P3D
CALSCALE:GREGORIAN
BEGIN:VEVENT
DTSTART:20220624T163000Z
DTEND:20220624T180000Z
X-MICROSOFT-CDO-ALLDAYEVENT:FALSE
SUMMARY:06.24.2022 MAC Quarterly Luncheon sponsored by Batts Communication
DESCRIPTION:ABOUT OUR SPEAKER:\n\nColonel Brian Golden is the Commander of the National Airborne Operations Center (NAOC) and 595th Command and Control Group at Offutt Air Force Base\, NE\n\n\n\nRSVP by Tuesday\, June 21\, 2022
X-ALT-DESC;FMTTYPE=text/html:<span style="font-family:arial\;"><span style="font-size:12px\;">ABOUT OUR SPEAKER:</span></span><br />\nColonel Brian Golden is the Commander of the National Airborne Operations Center (NAOC) and 595th Command and Control Group at Offutt Air Force Base\, NE<br />\n<br />\nRSVP by Tuesday\, June 21\, 2022
LOCATION:Abilene Country Club 4039 S Treadaway\, Abilene\, Texas Second Floor Ballroom
UID:e.3433.4707
SEQUENCE:3
DTSTAMP:20260425T173121Z
URL:https://business.abilenechamber.com/events/details/06-24-2022-mac-quarterly-luncheon-sponsored-by-batts-communication-4707
END:VEVENT

END:VCALENDAR
