BEGIN:VCALENDAR
VERSION:2.0
PRODID:-//ChamberMaster//Event Calendar 2.0//EN
METHOD:PUBLISH
X-PUBLISHED-TTL:P3D
REFRESH-INTERVAL:P3D
CALSCALE:GREGORIAN
BEGIN:VEVENT
DTSTART:20220614T163000Z
DTEND:20220614T180000Z
X-MICROSOFT-CDO-ALLDAYEVENT:FALSE
SUMMARY:06.14.22 ABIChat Luncheon Sponsored by Holland Hearing Center
DESCRIPTION:Join AYP for ABICHAT! A luncheon series that occurs once a quarter for Abilene Young Professionals. Hear from community leaders in an intimate setting as they share their stories of how they made their mark and how others can do the same. Tickets available to 60 young professionals and are first come\, first served and are nonrefundable.\n\n\n\nOur second series of 2022 sponsored by Holland Hearing Center features former Texas Tech defensive coordinator and Abilene Christian University's 21st head football coach\, Keith Patterson. \n\n\n\nCoach Patterson's experience includes 13 years leading some of the nation's top defenses at the NCAA Division I Football Bowl Subdivision level. The FBS teams he coached qualified for bowl games in 13 of his 19 seasons.\n\n\n\nLUNCH: Please email with any dietary restrictions \n\nQuestions? Email laurin@abilenechamber.com \n\n\n\nInterested in learning more about our speaker? Click here.
X-ALT-DESC;FMTTYPE=text/html:<span style="background:white\;"><span style="color:#1D2129\;"><span style="font-size:10.5pt\;">Join AYP for ABICHAT! A luncheon series that occurs once a quarter for Abilene Young Professionals. Hear from community leaders in an intimate setting as they share their stories of how they made their mark and how others can do the same. Tickets available to 60 young professionals and are first come\, first served and are nonrefundable.</span></span></span><br style="font-variant-ligatures:normal\;font-variant-caps:normal\;orphans:2\;text-align:start\;widows:2\;-webkit-text-stroke-width:0px\;text-decoration-thickness:initial\;text-decoration-style:initial\;white-space:pre-wrap\;word-spacing:0px\;" />\n<br style="font-variant-ligatures:normal\;font-variant-caps:normal\;orphans:2\;text-align:start\;widows:2\;-webkit-text-stroke-width:0px\;text-decoration-thickness:initial\;text-decoration-style:initial\;white-space:pre-wrap\;word-spacing:0px\;" />\n<span style="background:white\;"><span style="color:#1D2129\;"><span style="font-size:10.5pt\;"><span style="font-variant-ligatures:normal\;font-variant-caps:normal\;orphans:2\;text-align:start\;widows:2\;-webkit-text-stroke-width:0px\;text-decoration-thickness:initial\;text-decoration-style:initial\;white-space:pre-wrap\;word-spacing:0px\;"><span style="font-variant-ligatures:normal\;font-variant-caps:normal\;orphans:2\;text-align:start\;widows:2\;-webkit-text-stroke-width:0px\;text-decoration-thickness:initial\;text-decoration-style:initial\;word-spacing:0px\;">Our second series of 2022 sponsored by Holland Hearing Center features former Texas Tech defensive coordinator and Abilene Christian University&#39\;s 21<sup>st</sup> head football coach\, Keith Patterson. </span></span></span></span></span><br />\n<br />\n<span style="background:white\;"><span style="color:#1D2129\;"><span style="font-size:10.5pt\;">Coach Patterson&rsquo\;s experience includes 13 years leading some of the nation&rsquo\;s top defenses at the NCAA Division I Football Bowl Subdivision level. The FBS teams he coached qualified for bowl games in 13 of his 19 seasons.</span></span></span><br style="font-variant-ligatures:normal\;font-variant-caps:normal\;orphans:2\;text-align:start\;widows:2\;-webkit-text-stroke-width:0px\;text-decoration-thickness:initial\;text-decoration-style:initial\;word-spacing:0px\;" />\n<br style="font-variant-ligatures:normal\;font-variant-caps:normal\;orphans:2\;text-align:start\;widows:2\;-webkit-text-stroke-width:0px\;text-decoration-thickness:initial\;text-decoration-style:initial\;white-space:pre-wrap\;word-spacing:0px\;" />\n<span style="background:white\;"><span style="color:#333333\;"><span style="font-family:arial\,sans-serif\;"><span style="font-size:10.5pt\;"><span style="font-variant-ligatures:normal\;font-variant-caps:normal\;orphans:2\;text-align:start\;widows:2\;-webkit-text-stroke-width:0px\;text-decoration-thickness:initial\;text-decoration-style:initial\;word-spacing:0px\;">LUNCH: Please email with any dietary restrictions&nbsp\;</span></span></span></span></span><br style="font-variant-ligatures:normal\;font-variant-caps:normal\;orphans:2\;text-align:start\;widows:2\;-webkit-text-stroke-width:0px\;text-decoration-thickness:initial\;text-decoration-style:initial\;word-spacing:0px\;" />\n<span style="color:#333333\;"><span style="font-family:arial\,sans-serif\;"><span style="font-size:10.5pt\;"><span style="background:white\;"><span style="font-variant-ligatures:normal\;font-variant-caps:normal\;orphans:2\;text-align:start\;widows:2\;-webkit-text-stroke-width:0px\;text-decoration-thickness:initial\;text-decoration-style:initial\;word-spacing:0px\;">Questions? Email </span></span></span></span></span><strong><u><span style="font-family:arial\,sans-serif\;"><span style="font-size:10.5pt\;"><span style="background:white\;"><span style="font-variant-ligatures:normal\;font-variant-caps:normal\;orphans:2\;text-align:start\;widows:2\;-webkit-text-stroke-width:0px\;text-decoration-thickness:initial\;text-decoration-style:initial\;word-spacing:0px\;"><a href="mailto:laurin@abilenechamber.com"><span style="color:#FF0000\;">laurin</span></a><a href="mailto:libertygrace@abilenechamber.com"><span style="color:#FF0000\;">@abilenechamber.com&nbsp\;</span></a></span></span></span></span></u></strong><br />\n<br />\n<span style="font-family:arial\,sans-serif\;"><span style="font-size:10.5pt\;"><span style="background:white\;"><span style="font-variant-ligatures:normal\;font-variant-caps:normal\;orphans:2\;text-align:start\;widows:2\;-webkit-text-stroke-width:0px\;text-decoration-thickness:initial\;text-decoration-style:initial\;word-spacing:0px\;">Interested in learning more about our speaker? <u><strong><a href="https://acusports.com/sports/football/roster/coaches/keith-patterson/1140"><span style="color:#FF0000\;">Click here.&nbsp\;</span></a></strong></u></span></span></span></span><br />\n&nbsp\;
LOCATION:Brown Club on the third floor at Wildcat Stadium. Parking lot A for attendees. Need a map? Click here.
UID:e.3433.4708
SEQUENCE:3
DTSTAMP:20260425T172716Z
URL:https://business.abilenechamber.com/events/details/06-14-22-abichat-luncheon-sponsored-by-holland-hearing-center-4708
END:VEVENT

END:VCALENDAR
