BEGIN:VCALENDAR
VERSION:2.0
PRODID:-//ChamberMaster//Event Calendar 2.0//EN
METHOD:PUBLISH
X-PUBLISHED-TTL:P3D
REFRESH-INTERVAL:P3D
CALSCALE:GREGORIAN
BEGIN:VEVENT
DTSTART:20200528T223000Z
DTEND:20200528T233000Z
X-MICROSOFT-CDO-ALLDAYEVENT:FALSE
SUMMARY:05.28.20 Virtual Luau - Business After Hours
DESCRIPTION:Join us for a virtual Luau via Zoom. Wear your most colorful Luau attire\,\n\nbring your favorite summer drink and get ready to have some\n\nfun with an in home scavenger hunt!\n\n\n\nTopic: Virtual Luau - Business After Hours\n\nTime: May 28\, 2020 05:30 PM Central Time (US and Canada)\n\n \n\nJoin Zoom Meeting\n\nhttps://us02web.zoom.us/j/87453514568?pwd=RldtVGl1OW5oUkV3ZmZscDFQSDdqZz09\n\n\n\n \n\nMeeting ID: 874 5351 4568\n\nPassword: 657561\n\nOne tap mobile\n\n+13462487799\,\,87453514568#\,\,1#\,657561# US (Houston)\n\n+12532158782\,\,87453514568#\,\,1#\,657561# US (Tacoma)\n\n \n\nDial by your location\n\n        +1 346 248 7799 US (Houston)\n\n        +1 253 215 8782 US (Tacoma)\n\n        +1 669 900 9128 US (San Jose)\n\n        +1 312 626 6799 US (Chicago)\n\n        +1 646 558 8656 US (New York)\n\n        +1 301 715 8592 US (Germantown)\n\nMeeting ID: 874 5351 4568\n\nPassword: 657561\n\nFind your local number: https://us02web.zoom.us/u/kzEzmbIAD
X-ALT-DESC;FMTTYPE=text/html:<span style="font-size:18px\;"><span style="color:#ff0099\;"><strong>Join us for a virtual Luau via Zoom. Wear your most colorful Luau attire\,<br />\nbring your favorite summer drink and get ready to have some<br />\nfun with an in home scavenger hunt!</strong></span></span><br />\n<br />\nTopic: Virtual Luau - Business After Hours<br />\nTime: May 28\, 2020 05:30 PM Central Time (US and Canada)<br />\n&nbsp\;<br />\nJoin Zoom Meeting<br />\n<a href="https://us02web.zoom.us/j/87453514568?pwd=RldtVGl1OW5oUkV3ZmZscDFQSDdqZz09">https://us02web.zoom.us/j/87453514568?pwd=RldtVGl1OW5oUkV3ZmZscDFQSDdqZz09</a><br />\n<br />\n&nbsp\;<br />\nMeeting ID: 874 5351 4568<br />\nPassword: 657561<br />\nOne tap mobile<br />\n+13462487799\,\,87453514568#\,\,1#\,657561# US (Houston)<br />\n+12532158782\,\,87453514568#\,\,1#\,657561# US (Tacoma)<br />\n&nbsp\;<br />\nDial by your location<br />\n&nbsp\;&nbsp\;&nbsp\;&nbsp\;&nbsp\;&nbsp\;&nbsp\; +1 346 248 7799 US (Houston)<br />\n&nbsp\;&nbsp\;&nbsp\;&nbsp\;&nbsp\;&nbsp\;&nbsp\; +1 253 215 8782 US (Tacoma)<br />\n&nbsp\;&nbsp\;&nbsp\;&nbsp\;&nbsp\;&nbsp\;&nbsp\; +1 669 900 9128 US (San Jose)<br />\n&nbsp\;&nbsp\;&nbsp\;&nbsp\;&nbsp\;&nbsp\;&nbsp\; +1 312 626 6799 US (Chicago)<br />\n&nbsp\;&nbsp\;&nbsp\;&nbsp\;&nbsp\;&nbsp\;&nbsp\; +1 646 558 8656 US (New York)<br />\n&nbsp\;&nbsp\;&nbsp\;&nbsp\;&nbsp\;&nbsp\;&nbsp\; +1 301 715 8592 US (Germantown)<br />\nMeeting ID: 874 5351 4568<br />\nPassword: 657561<br />\nFind your local number: <a href="https://us02web.zoom.us/u/kzEzmbIAD">https://us02web.zoom.us/u/kzEzmbIAD</a>
LOCATION:Virtual Zoom Meeting - In your home or office
UID:e.3433.3910
SEQUENCE:3
DTSTAMP:20260421T065327Z
URL:https://business.abilenechamber.com/events/details/05-28-20-virtual-luau-business-after-hours-3910
END:VEVENT

END:VCALENDAR
