BEGIN:VCALENDAR
VERSION:2.0
PRODID:-//ChamberMaster//Event Calendar 2.0//EN
METHOD:PUBLISH
X-PUBLISHED-TTL:P3D
REFRESH-INTERVAL:P3D
CALSCALE:GREGORIAN
BEGIN:VEVENT
DTSTART:20220524T223000Z
DTEND:20220525T000000Z
X-MICROSOFT-CDO-ALLDAYEVENT:FALSE
SUMMARY:05.24.22 AYP After Five sponsored by Tige Boats
DESCRIPTION:Come see for yourself luxury boats that will shatter your expectations of what can be #MadeinAbi at this month's AYP After Five at Tige Boats.\n\n\n\nThis is a casual come and go as you please event geared toward the 21-40 year old demographic in the Abilene area. Drinks\, light hors d'oeuvres\, and networking take place.\n\n\n\nFree for members\, free for first timers\, $10 for prospective members.\n\n \n\n\nThe Chamber encourages those in attendance at future Chamber events and functions to implement or practice any measures that make the individual feel the most comfortable in today's environment.\n\n\nPlease note: This event is being photographed and/or videotaped and your image may be used in connection with the advertising and promotion of the Abilene Chamber of Commerce.
X-ALT-DESC;FMTTYPE=text/html:<div data-block="true" data-editor="idcs" data-offset-key="7ea6n-0-0" style="font-family: Helvetica\, Arial\, sans-serif\; color: rgb(28\, 30\, 33)\; font-size: 12px\; white-space: pre-wrap\; background-color: rgb(255\, 255\, 255)\;">\n<div class="_1mf _1mj" data-offset-key="7ea6n-0-0" style="position: relative\; direction: ltr\; font-family: inherit\;">\n<div><span font-size:="" style="color: rgb(5\, 5\, 5)\; font-family: system-ui\, -apple-system\, BlinkMacSystemFont\, " white-space:="">Come see for yourself luxury boats that will shatter your expectations of what can be </span><span color:="" font-size:="" style="font-family: system-ui\, -apple-system\, BlinkMacSystemFont\, " white-space:=""><a class="oajrlxb2 g5ia77u1 qu0x051f esr5mh6w e9989ue4 r7d6kgcz rq0escxv nhd2j8a9 nc684nl6 p7hjln8o kvgmc6g5 cxmmr5t8 oygrvhab hcukyx3x jb3vyjys rz4wbd8a qt6c0cv9 a8nywdso i1ao9s8h esuyzwwr f1sip0of lzcic4wl gpro0wi8 py34i1dx" href="https://www.facebook.com/hashtag/madeinabi?__cft__[0]=AZVFlE_PwGssBtCQSZMCn4XAdcQeNKQYvOvy0Gs-A2V30tvy-vqpBg4mp07zekiDZhp6cEedJ2mHNK_CV3fia-46wydLJhTLFApa_ugGamq-JxKFAgkr25LihKdSD2u8eOWH3iYmZ_hIwhJM4Riy0R_IOPgQvK4o-QN58gXYSJfo4w&amp\;__tn__=*NK-R" role="link" style="color: var(--blue-link)\; cursor: pointer\; text-decoration-line: none\; outline: none\; list-style: none\; border-width: 0px\; border-style: initial\; border-color: initial\; padding: 0px\; margin: 0px\; touch-action: manipulation\; background-color: transparent\; text-align: inherit\; display: inline\; -webkit-tap-highlight-color: transparent\; box-sizing: border-box\; font-family: inherit\;" tabindex="0" target="_blank">#MadeinAbi</a> at this month&#39\;s AYP After Five at Tige Boats.</span><br />\n<br />\n<span style="font-size:14px\;">This is a casual come and go as you please event geared toward the 21-40 year old demographic in the Abilene area. Drinks\, light hors d&#39\;oeuvres\, and networking take place.<br />\n<br />\nFree for members\, free for first timers\, $10 for prospective members.</span></div>\n\n<div>&nbsp\;\n<div class="row gz-intro-paragraph" style="box-sizing: border-box\; display: flex\; flex-wrap: wrap\; margin: 20px -15px\; outline: 0px\; color: rgb(34\, 34\, 34)\; font-family: Montserrat\, Helvetica\, Arial\, sans-serif\; font-size: 16px\;">\n<div class="col" style="box-sizing: border-box\; position: relative\; width: 1220px\; min-height: 1px\; padding-right: 15px\; padding-left: 15px\; flex-basis: 0px\; flex-grow: 1\; max-width: 100%\; outline: 0px\;">\n<p style="box-sizing: border-box\; overflow-wrap: break-word\; margin-top: 0px\; margin-bottom: 1rem\; outline: 0px\;"><span style="box-sizing: border-box\; font-weight: bolder\;"><span style="box-sizing: border-box\; color: rgb(255\, 0\, 0)\;"><span style="box-sizing: border-box\; font-family: helvetica\, arial\, sans-serif\; font-size: 14px\;">The Chamber encourages those in attendance at future Chamber events and functions to implement or practice any measures that make the individual feel the most comfortable in today&#39\;s environment.</span></span></span></p>\n</div>\n</div>\n<span style="font-family:arial\;"><span style="box-sizing: border-box\; outline: 0px\;"><span style="box-sizing: border-box\; outline: 0px\; font-size: 9.33333px\;">Please note: This event is being photographed and/or videotaped and your image may be used in connection with the advertising and promotion of the Abilene Chamber of Commerce.</span></span></span></div>\n</div>\n</div>\n\n<div data-block="true" data-editor="idcs" data-offset-key="g8ca-0-0" style="font-family: Helvetica\, Arial\, sans-serif\; color: rgb(28\, 30\, 33)\; font-size: 12px\; white-space: pre-wrap\; background-color: rgb(255\, 255\, 255)\;">\n<div class="_1mf _1mj" data-offset-key="g8ca-0-0" style="position: relative\; direction: ltr\; font-family: inherit\;">\n<div class="row gz-banner" style="box-sizing: border-box\; display: flex\; flex-wrap: wrap\; margin-right: -15px\; margin-left: -15px\; text-align: center\; color: rgb(34\, 34\, 34)\; font-family: Montserrat\, Helvetica\, Arial\, sans-serif\; font-size: 16px\;">\n<div class="col" style="box-sizing: border-box\; position: relative\; width: 1220px\; min-height: 1px\; padding-right: 15px\; padding-left: 15px\; flex-basis: 0px\; flex-grow: 1\; max-width: 100%\;">\n<div class="row gz-footer-navigation" role="navigation" style="box-sizing: border-box\; display: flex\; flex-wrap: wrap\; margin: 40px 0px\; font-size: 13.6px\; color: rgb(34\, 34\, 34)\; font-family: Montserrat\, Helvetica\, Arial\, sans-serif\; text-align: left\;">&nbsp\;</div>\n</div>\n</div>\n</div>\n</div>\n
LOCATION:1801 TX-36\, Abilene\, TX 79602
UID:e.3433.4679
SEQUENCE:3
DTSTAMP:20260425T185006Z
URL:https://business.abilenechamber.com/events/details/05-24-22-ayp-after-five-sponsored-by-tige-boats-4679
END:VEVENT

END:VCALENDAR
