BEGIN:VCALENDAR
VERSION:2.0
PRODID:-//ChamberMaster//Event Calendar 2.0//EN
METHOD:PUBLISH
X-PUBLISHED-TTL:P3D
REFRESH-INTERVAL:P3D
CALSCALE:GREGORIAN
BEGIN:VEVENT
DTSTART:20230515T163000Z
DTEND:20230515T180000Z
X-MICROSOFT-CDO-ALLDAYEVENT:FALSE
SUMMARY:05.15.23 ABIChat Luncheon Sponsored by Abilene Apartments
DESCRIPTION:Join AYP for ABICHAT! A luncheon series that occurs once a quarter for Abilene Young Professionals. Hear from community leaders in an intimate setting as they share their stories of how they made their mark and how others can do the same. Tickets available to 60 young professionals and are first come\, first served and are nonrefundable.\n\n\n\nOur second series of 2023 sponsored by Monarch Investments features Dyess AFB leaders\, MSgt Shamir Moore\, Aircrew Flight Equipment Parachute Rigger\, and Lt Col Kristen Jenkins\, 28th Bomb Squadron Commander.      \n\n                   \n\nMSgt Shamir Moore\, is an Aircrew Flight Equipment Parachute Rigger but currently serving as the 9th Bomb Squadron Senior Enlisted Leader. Assignments include Las Vegas\, South Korea\, Guam and Abilene. With overseas deployments to Afghanistan\, Kuwait\, Italy\, and Djibouti. His hobbies include traveling\, music\, working out and new experiences. One quirky fact is he's been in two Netflix's specials but they cut his scene's from one before final production. \n\n\n\nLUNCH: Please email with any dietary restrictions.\n\nQuestions? Email emily@abilenechamber.com
X-ALT-DESC;FMTTYPE=text/html:<span style="font-size:12px\;"><span style="background: white\;"><span style="color:#1D2129\;">Join AYP for ABICHAT! A luncheon series that occurs once a quarter for Abilene Young Professionals. Hear from community leaders in an intimate setting as they share their stories of how they made their mark and how others can do the same. Tickets available to 60 young professionals and are first come\, first served and are nonrefundable.</span></span><br style="font-variant-ligatures:normal\;font-variant-caps:normal\;orphans:2\;text-align:start\;widows:2\;-webkit-text-stroke-width:0px\;text-decoration-thickness:initial\;text-decoration-style:initial\;white-space:pre-wrap\;word-spacing:0px\;" />\n<br style="font-variant-ligatures:normal\;font-variant-caps:normal\;orphans:2\;text-align:start\;widows:2\;-webkit-text-stroke-width:0px\;text-decoration-thickness:initial\;text-decoration-style:initial\;white-space:pre-wrap\;word-spacing:0px\;" />\n<span style="background: white\;"><span style="font-variant-ligatures: normal\; font-variant-caps: normal\; orphans: 2\; text-align: start\; widows: 2\; -webkit-text-stroke-width: 0px\; text-decoration-thickness: initial\; text-decoration-style: initial\; white-space: pre-wrap\; word-spacing: 0px\;"><font color="#1d2129">Our second series of 2023 sponsored by Monarch Investments </font></span></span><span style="color:#1D2129\;"><span style="background:white\;"><span style="font-variant-ligatures:normal\;font-variant-caps:normal\;orphans:2\;text-align:start\;widows:2\;-webkit-text-stroke-width:0px\;text-decoration-thickness:initial\;text-decoration-style:initial\;white-space:pre-wrap\;word-spacing:0px\;">features </span></span></span><span style="color: rgb(5\, 5\, 5)\; white-space: pre-wrap\;">Dyess AFB leaders\, MSgt Shamir Moore\, Aircrew Flight Equipment Parachute Rigger\, and Lt Col Kristen Jenkins\, 28th Bomb Squadron Commander.</span><span style="color:#1D2129\;"><span style="background:white\;"><span style="font-variant-ligatures:normal\;font-variant-caps:normal\;orphans:2\;text-align:start\;widows:2\;-webkit-text-stroke-width:0px\;text-decoration-thickness:initial\;text-decoration-style:initial\;white-space:pre-wrap\;word-spacing:0px\;"> </span></span></span>&nbsp\; &nbsp\; &nbsp\;<br />\n&nbsp\; &nbsp\; &nbsp\; &nbsp\; &nbsp\; &nbsp\; &nbsp\; &nbsp\; &nbsp\; &nbsp\;<br />\nMSgt Shamir Moore\, is an Aircrew Flight Equipment Parachute Rigger but currently serving as the 9th Bomb Squadron Senior Enlisted Leader. Assignments include Las Vegas\, South Korea\, Guam and Abilene. With overseas deployments to Afghanistan\, Kuwait\, Italy\, and Djibouti. His hobbies include traveling\, music\, working out and new experiences. One quirky fact is he&#39\;s been in two Netflix&#39\;s specials but they cut his scene&#39\;s from one before final production.&nbsp\;<br />\n<br style="font-variant-ligatures:normal\;font-variant-caps:normal\;orphans:2\;text-align:start\;widows:2\;-webkit-text-stroke-width:0px\;text-decoration-thickness:initial\;text-decoration-style:initial\;white-space:pre-wrap\;word-spacing:0px\;" />\n<span style="background:white\;"><span style="color:#333333\;"><span style="font-variant-ligatures:normal\;font-variant-caps:normal\;orphans:2\;text-align:start\;widows:2\;-webkit-text-stroke-width:0px\;text-decoration-thickness:initial\;text-decoration-style:initial\;word-spacing:0px\;">LUNCH: Please email with any dietary restrictions.</span></span></span><br style="font-variant-ligatures:normal\;font-variant-caps:normal\;orphans:2\;text-align:start\;widows:2\;-webkit-text-stroke-width:0px\;text-decoration-thickness:initial\;text-decoration-style:initial\;word-spacing:0px\;" />\n<span style="color:#333333\;"><span style="background:white\;"><span style="font-variant-ligatures:normal\;font-variant-caps:normal\;orphans:2\;text-align:start\;widows:2\;-webkit-text-stroke-width:0px\;text-decoration-thickness:initial\;text-decoration-style:initial\;word-spacing:0px\;">Questions? Email <a href="mailto:emily@abilenechamber.com?subject=AYP%20ABIChat%20Luncheon">emily@abilenechamber.com&nbsp\;</a></span></span></span></span>
LOCATION:Community Foundation of Abilene 850 N 1st St\, Abilene\, TX 79601
UID:e.3433.4963
SEQUENCE:3
DTSTAMP:20260424T000909Z
URL:https://business.abilenechamber.com/events/details/05-15-23-abichat-luncheon-sponsored-by-abilene-apartments-4963
END:VEVENT

END:VCALENDAR
