BEGIN:VCALENDAR
VERSION:2.0
PRODID:-//ChamberMaster//Event Calendar 2.0//EN
METHOD:PUBLISH
X-PUBLISHED-TTL:P3D
REFRESH-INTERVAL:P3D
CALSCALE:GREGORIAN
BEGIN:VEVENT
DTSTART:20210428T210000Z
DTEND:20210428T220000Z
X-MICROSOFT-CDO-ALLDAYEVENT:FALSE
SUMMARY:04.28.21 Chamber in 60
DESCRIPTION:The Chamber in 60 is a one-hour session about the Chamber's mission\, member benefits\, networking events\, committees\, sponsorships and how to maximize the benefits of your Chamber investment. Meet the staff and Executive Board Members and find out how we serve your business. New members are encouraged to attend. Seating is limited\, reservations required.
X-ALT-DESC;FMTTYPE=text/html:<span style="color: rgb(51\, 51\, 51)\; font-family: sans-serif\, Arial\, Verdana\, &quot\;Trebuchet MS&quot\;\; font-size: 13px\; background-color: rgb(255\, 255\, 255)\;">The Chamber in 60 is a one-hour session about the Chamber&#39\;s mission\, member benefits\, networking events\, committees\, sponsorships and how to maximize the benefits of your Chamber investment. Meet the staff and Executive Board Members and find out how we serve your business. New members are encouraged to attend. Seating is limited\, reservations required.&nbsp\;</span>
LOCATION:Abilene Chamber of Commerce (Board Room) 174 Cypress Street\, Ste. 200 Abilene\, TX 79601
UID:e.3433.4342
SEQUENCE:3
DTSTAMP:20260423T184056Z
URL:https://business.abilenechamber.com/events/details/04-28-21-chamber-in-60-4342
END:VEVENT

END:VCALENDAR
