BEGIN:VCALENDAR
VERSION:2.0
PRODID:-//ChamberMaster//Event Calendar 2.0//EN
METHOD:PUBLISH
X-PUBLISHED-TTL:P3D
REFRESH-INTERVAL:P3D
CALSCALE:GREGORIAN
BEGIN:VEVENT
DTSTART:20210420T163000Z
DTEND:20210420T180000Z
X-MICROSOFT-CDO-ALLDAYEVENT:FALSE
SUMMARY:04.20.2021 Hispanic Business Council Luncheon
DESCRIPTION:We are back in business! Please join the Hispanic Business Council for their first in-person network luncheon of 2021. This is a great opportunity for you to network with other community leaders to help grow your business\, become more involved with the community\, and have lots of fun! \n\n\n\nOur current safety protocol:\n\n- To protect your health and the health of others\, masks will be strongly encouraged and will be on-hand for those who do not have one. \n\n- We'll have multiple hand sanitizing stations throughout the facility as well as signage encouraging one way traffic at our larger events.\n\n- Unsure of if the person you're wanting to visit with is physically distancing? We'll have colored bracelets on-hand to help you communicate to those around you which measures you are practicing. A red will mean no contact\, yellow elbows only while still being cautious\, blue hi-five and handshakes with frequent sanitizing.
X-ALT-DESC;FMTTYPE=text/html:We are back in business! Please join the Hispanic Business Council for their first in-person network luncheon of 2021. This is a great opportunity for you to network with other community leaders to help grow your business\, become more involved with the community\, and have lots of fun!&nbsp\;<br />\n<br />\n<span style="font-size:12.0pt\;">Our current safety protocol:</span><br />\n<span style="color:#1C1E21\;">- To protect your health and the health of others\, masks will be strongly encouraged and will be on-hand for those who do not have one. </span><br />\n<span style="color:#1C1E21\;">- We&rsquo\;ll have multiple hand sanitizing stations throughout the facility as well as signage encouraging one way traffic at our larger events.</span><br />\n<span style="color:#1C1E21\;">- Unsure of if the person you&rsquo\;re wanting to visit with is physically distancing? We&rsquo\;ll have colored bracelets on-hand to help you communicate to those around you which measures you are practicing. A red will mean no contact\, yellow elbows only while still being cautious\, blue hi-five and handshakes with frequent sanitizing.</span><br />\n<br />\n&nbsp\;
LOCATION:Al's Mesquite Grill 4801 Buffalo Gap Rd. Abilene\, Texas
UID:e.3433.4336
SEQUENCE:3
DTSTAMP:20260423T200012Z
URL:https://business.abilenechamber.com/events/details/04-20-2021-hispanic-business-council-luncheon-4336
END:VEVENT

END:VCALENDAR
