BEGIN:VCALENDAR
VERSION:2.0
PRODID:-//ChamberMaster//Event Calendar 2.0//EN
METHOD:PUBLISH
X-PUBLISHED-TTL:P3D
REFRESH-INTERVAL:P3D
CALSCALE:GREGORIAN
BEGIN:VEVENT
DTSTART:20210407T130000Z
DTEND:20210407T140000Z
X-MICROSOFT-CDO-ALLDAYEVENT:FALSE
SUMMARY:04.07.21 Wake Up Wednesday sponsored by HSU Houston Lantrip Center for Literacy
DESCRIPTION:Monthly morning social business networking event. Open to sponsor employees and guests\, Chamber members and prospective members. Features a short sponsor presentation\, food/beverages\, update on Chamber activities and door prizes.\n- To protect your health and the health of others\, masks will be strongly encouraged and will be on-hand for those who do not have one.\n\n- We'll have multiple hand sanitizing stations throughout the facility as well as signage encouraging one way traffic at our larger events.\n\n- Unsure of if the person you're wanting to visit with is physically distancing? We'll have colored bracelets on-hand to help you communicate to those around you which measures you are practicing. A red will mean no contact\, yellow elbows only while still being cautious\, blue hi-five and handshakes with frequent sanitizing.\n\n\n\n It is our hope that with these principles\, our partners will be able to resume networking while creating a safe space for yourself and those around you.\n\n\n\n\n\n\n\n\nPlease note: This event is being photographed and/or videotaped and your image may be used in connection with the advertising and promotion of the Abilene Chamber of Commerce.
X-ALT-DESC;FMTTYPE=text/html:<span style="font-family:times new roman\;"><span style="font-size:12px\;"><span style="color: rgb(51\, 51\, 51)\; background-color: rgb(255\, 255\, 255)\;">Monthly morning social business networking event. Open to sponsor employees and guests\, Chamber members and prospective members. Features a short sponsor presentation\, food/beverages\, update on Chamber activities and door prizes.</span></span></span>\n<p class="xxxmsonormal" style="background:white"><span style="font-family:times new roman\;"><span style="font-size:12px\;"><span style="color: rgb(28\, 30\, 33)\;">- To protect your health and the health of others\, masks will be strongly encouraged and will be on-hand for those who do not have one.</span></span></span><br />\n<span style="color: rgb(28\, 30\, 33)\; font-size: 12px\; font-family: &quot\;times new roman&quot\;\;">- We&rsquo\;ll have multiple hand sanitizing stations throughout the facility as well as signage encouraging one way traffic at our larger events.<br />\n- Unsur</span><span style="color: rgb(28\, 30\, 33)\; font-size: 12px\; font-family: &quot\;times new roman&quot\;\;">e of if the person you&rsquo\;re wanting to visit with is physically distancing? We&rsquo\;ll have colored bracelets on-hand to help you communicate to those around you which measures you are practicing. A red will mean no contact\, yellow elbows only while still being cautious\, blue hi-five and handshakes with frequent sanitizing.</span></p>\n\n<p class="xxxmsonormal" style="background:white"><o:p></o:p></p>\n\n<p class="xxxmsonormal" style="background:white"><span style="font-family:times new roman\;"><span style="font-size:12px\;"><span style="color: rgb(28\, 30\, 33)\;">&nbsp\;</span></span></span><span style="color: rgb(28\, 30\, 33)\; font-size: 12px\; font-family: &quot\;times new roman&quot\;\;">It is our hope that with these principles\, our partners will be able to resume networking while creating a safe space for yourself and those around you.</span></p>\n<br />\n<br />\n<br style="color: rgb(51\, 51\, 51)\; font-family: sans-serif\, Arial\, Verdana\, &quot\;Trebuchet MS&quot\;\; font-size: 13px\;" />\n<br style="color: rgb(51\, 51\, 51)\; font-family: sans-serif\, Arial\, Verdana\, &quot\;Trebuchet MS&quot\;\; font-size: 13px\;" />\n<span style="font-family:times new roman\;"><span style="font-size:12px\;"><span style="color: rgb(51\, 51\, 51)\;">Please note: This event is being photographed and/or videotaped and your image may be used in connection with the advertising and promotion of the Abilene Chamber of Commerce.</span></span></span>
LOCATION:Houston Lantrip Center for Literacy 917 Lineberry Blvd. Abilene\, Texas 79601
UID:e.3433.4317
SEQUENCE:3
DTSTAMP:20260423T200458Z
URL:https://business.abilenechamber.com/events/details/04-07-21-wake-up-wednesday-sponsored-by-hsu-houston-lantrip-center-for-literacy-4317
END:VEVENT

END:VCALENDAR
