BEGIN:VCALENDAR
VERSION:2.0
PRODID:-//ChamberMaster//Event Calendar 2.0//EN
METHOD:PUBLISH
X-PUBLISHED-TTL:P3D
REFRESH-INTERVAL:P3D
CALSCALE:GREGORIAN
BEGIN:VEVENT
DTSTART:20200305T233000Z
DTEND:20200306T010000Z
X-MICROSOFT-CDO-ALLDAYEVENT:FALSE
SUMMARY:03.5.20 AYP After Five sponsored by Hendrick Health System
DESCRIPTION:Begin conquering your 2020 networking goals at the AYP After Five! This highly attended networking event is a great opportunity to grab food and a drink and meet other AYPs in a laid back casual atmosphere.
X-ALT-DESC;FMTTYPE=text/html:<div data-block="true" data-editor="idcs" data-offset-key="7ea6n-0-0" style="font-family: Helvetica\, Arial\, sans-serif\; color: rgb(28\, 30\, 33)\; font-size: 12px\; white-space: pre-wrap\; background-color: rgb(255\, 255\, 255)\;">\n<div class="_1mf _1mj" data-offset-key="7ea6n-0-0" style="position: relative\; direction: ltr\; font-family: inherit\;"><span style="color: rgb(29\, 33\, 41)\; font-family: Arial\, Verdana\, Helvetica\, sans-serif\; font-size: 12px\; white-space: pre-wrap\;">Begin conquering your 2020 networking goals at the AYP After Five!</span><span data-offset-key="7ea6n-0-0" style="font-family: inherit\;"> This highly attended networking event is a great opportunity to grab food and a drink and meet other AYPs in a laid back casual atmosphere. </span></div>\n</div>\n\n<div data-block="true" data-editor="idcs" data-offset-key="bc685-0-0" style="font-family: Helvetica\, Arial\, sans-serif\; color: rgb(28\, 30\, 33)\; font-size: 12px\; white-space: pre-wrap\; background-color: rgb(255\, 255\, 255)\;">\n<div class="_1mf _1mj" data-offset-key="bc685-0-0" style="position: relative\; direction: ltr\; font-family: inherit\;">&nbsp\;</div>\n</div>\n\n<div data-block="true" data-editor="idcs" data-offset-key="g8ca-0-0" style="font-family: Helvetica\, Arial\, sans-serif\; color: rgb(28\, 30\, 33)\; font-size: 12px\; white-space: pre-wrap\; background-color: rgb(255\, 255\, 255)\;">\n<div class="_1mf _1mj" data-offset-key="g8ca-0-0" style="position: relative\; direction: ltr\; font-family: inherit\;">&nbsp\;</div>\n</div>\n
LOCATION:Primetime Social 4541 Loop 322
UID:e.3433.3883
SEQUENCE:3
DTSTAMP:20260423T094656Z
URL:https://business.abilenechamber.com/events/details/03-5-20-ayp-after-five-sponsored-by-hendrick-health-system-3883
END:VEVENT

END:VCALENDAR
