BEGIN:VCALENDAR
VERSION:2.0
PRODID:-//ChamberMaster//Event Calendar 2.0//EN
METHOD:PUBLISH
X-PUBLISHED-TTL:P3D
REFRESH-INTERVAL:P3D
CALSCALE:GREGORIAN
BEGIN:VEVENT
DTSTART:20220330T220000Z
DTEND:20220330T233000Z
X-MICROSOFT-CDO-ALLDAYEVENT:FALSE
SUMMARY:03.30.22 Business After Hours sponsored by First Bank Texas
DESCRIPTION:Join us for our LARGEST Business After Hours of the year sponsored by First Bank Texas! Capping off our annual Business Expo\, this networking event will include drinks\, food\, live entertainment sponsored by Care Fest\, and our annual Live Auction sponsored by LMB Real Estate and hosted by the one and only Kelly Jay from KBCY's Doc and Kelly in the Morning. See you there! \n\n\n\nPlease note: This event is being photographed and/or videotaped and your image may be used in connection with the advertising and promotion of the Abilene Chamber of Commerce.
X-ALT-DESC;FMTTYPE=text/html:<span style="font-size:14px\;"><span style="color: rgb(51\, 51\, 51)\; font-family: sans-serif\, Arial\, Verdana\, &quot\;Trebuchet MS&quot\;\; background-color: rgb(255\, 255\, 255)\;">Join us for our LARGEST Business After Hours of the year <i>sponsored by First Bank Texas</i>! Capping off our annual Business Expo\, this networking event will include drinks\, food\, live entertainment <em>sponsored by Care Fest</em>\, and our annual Live Auction <em>sponsored by LMB Real Estate</em>&nbsp\;and hosted by the one and only Kelly Jay from KBCY&#39\;s Doc and Kelly in the Morning. See you there!&nbsp\;</span></span><br />\n<br />\n<span style="background:white\;"><span style="color:#333333\;"><span style="font-family:arial\,sans-serif\;"><span style="font-size:7.0pt\;">Please note: This event is being photographed and/or videotaped and your image may be used in connection with the advertising and promotion of the Abilene Chamber of Commerce.</span></span></span></span>
LOCATION:Convention Center 1100 N 6th St. Abilene\, TX 79601
UID:e.3433.4575
SEQUENCE:3
DTSTAMP:20260425T215305Z
URL:https://business.abilenechamber.com/events/details/03-30-22-business-after-hours-sponsored-by-first-bank-texas-4575
END:VEVENT

END:VCALENDAR
