BEGIN:VCALENDAR
VERSION:2.0
PRODID:-//ChamberMaster//Event Calendar 2.0//EN
METHOD:PUBLISH
X-PUBLISHED-TTL:P3D
REFRESH-INTERVAL:P3D
CALSCALE:GREGORIAN
BEGIN:VEVENT
DTSTART:20220330T163000Z
DTEND:20220330T180000Z
X-MICROSOFT-CDO-ALLDAYEVENT:FALSE
SUMMARY:03.30.22 ABIChat Luncheon Sponsored by Big Brothers Big Sisters
DESCRIPTION:Join AYP for ABICHAT! A luncheon series that occurs once a quarter for Abilene Young Professionals. Hear from community leaders in an intimate setting as they share their stories of how they made their mark and how others can do the same. Tickets available to 40 young professionals and are first come\, first served and are nonrefundable.\n\n\n\nOur first series of 2022 sponsored by Big Brothers Big Sisters features Abilene ISD superintendent\, Dr. David Young. Dr. Young will share his perspective on leading Abilene's largest school district\, update you all on the AISD Bond\, while sharing key leadership insights that every young professional can implement in their daily lives. \n\n\n\nLUNCH: Please email with any dietary restrictions \n\nQuestions? Email libertygrace@abilenechamber.com \n\n\n\nABOUT OUR SPEAKER:\n\nDr. David Young: Dr. David Young became Superintendent of Schools for Abilene ISD on August 20\, 2015.\n\n\n\nA product of Abilene ISD schools and 1990 graduate of Cooper High School\, Dr. Young served as the superintendent of the Pampa Independent School District from 2012-2015 prior to joining AISD.\n\n\n\nBefore becoming Pampa ISD's superintendent\, Dr. Young served the Midway ISD as Assistant Superintendent for Curriculum and Instruction for three years. He held several central office roles in the Bryan ISD and was a building principal at both the middle and high school levels while serving in the Bryan\, Navasota\, and Grapevine-Colleyville ISDs. He taught mathematics in both the Grapevine-Colleyville and Waxahachie ISDs.\n\nDr. Young received both his undergraduate and doctoral degrees from Texas A&M University in College Station and his masters from Texas A&M   Commerce.\n\n\n\nDr. Young's wife\, Amanda\, a 1992 graduate of Cooper High School\, is a former elementary school counselor who is currently the Benefits Coordinator for the Abilene ISD. The Youngs have three children: Austin\, Madison\, and Jackson. Austin graduated from Pampa High School\, while Madison and Jackson graduated from Cooper High School. Austin is a graduate of Hardin-Simmons University and is a music minister in Portland\, Texas\, and is married with a daughter. Madison is a recent graduate of Samford University and is a nurse in Birmingham\, Ala.\, and Jackson is a student at HSU.\n\n\n\nOn the state level\, Dr. Young is active in the Texas Association of School Administrators\, the Texas Association of Mid-Sized Schools\, and the Texas Association of School Boards. Dr. Young holds leadership positions in the Texas Association of Community Schools and is currently serving as president of the Texas Association of Supervision and Curriculum Development.
X-ALT-DESC;FMTTYPE=text/html:<span style="background:white\;"><span style="color:#1D2129\;"><span style="font-family:helvetica\,sans-serif\;"><span style="font-size:10.5pt\;">Join AYP for ABICHAT! A luncheon series that occurs once a quarter for Abilene Young Professionals. Hear from community leaders in an intimate setting as they share their stories of how they made their mark and how others can do the same. Tickets available to 40 young professionals and are first come\, first served and are nonrefundable.</span></span></span></span><br style="font-variant-ligatures:normal\;font-variant-caps:normal\;orphans:2\;text-align:start\;widows:2\;-webkit-text-stroke-width:0px\;text-decoration-thickness:initial\;text-decoration-style:initial\;white-space:pre-wrap\;word-spacing:0px\;" />\n<br style="font-variant-ligatures:normal\;font-variant-caps:normal\;orphans:2\;text-align:start\;widows:2\;-webkit-text-stroke-width:0px\;text-decoration-thickness:initial\;text-decoration-style:initial\;white-space:pre-wrap\;word-spacing:0px\;" />\n<span style="color:#1D2129\;"><span style="font-family:helvetica\,sans-serif\;"><span style="font-size:10.5pt\;"><span style="background:white\;"><span style="font-variant-ligatures:normal\;font-variant-caps:normal\;orphans:2\;text-align:start\;widows:2\;-webkit-text-stroke-width:0px\;text-decoration-thickness:initial\;text-decoration-style:initial\;white-space:pre-wrap\;word-spacing:0px\;">Our first series of 2022 sponsored by Big Brothers Big Sisters features Abilene ISD superintendent</span></span></span></span></span><span style="color:#1D2129\;"><span style="font-family:helvetica\,sans-serif\;"><span style="font-size:10.5pt\;"><span style="background:white\;"><span style="font-variant-ligatures:normal\;font-variant-caps:normal\;orphans:2\;text-align:start\;widows:2\;-webkit-text-stroke-width:0px\;text-decoration-thickness:initial\;text-decoration-style:initial\;white-space:pre-wrap\;word-spacing:0px\;">\, Dr. David Young. Dr. Young will share his perspective on leading Abilene&#39\;s largest school district\, update you all on the AISD Bond\, while sharing key leadership insights that every young professional can implement in their daily lives. </span></span></span></span></span><br style="font-variant-ligatures:normal\;font-variant-caps:normal\;orphans:2\;text-align:start\;widows:2\;-webkit-text-stroke-width:0px\;text-decoration-thickness:initial\;text-decoration-style:initial\;word-spacing:0px\;" />\n<br style="font-variant-ligatures:normal\;font-variant-caps:normal\;orphans:2\;text-align:start\;widows:2\;-webkit-text-stroke-width:0px\;text-decoration-thickness:initial\;text-decoration-style:initial\;white-space:pre-wrap\;word-spacing:0px\;" />\n<span style="background:white\;"><span style="color:#333333\;"><span style="font-family:arial\,sans-serif\;"><span style="font-size:10.5pt\;"><span style="font-variant-ligatures:normal\;font-variant-caps:normal\;orphans:2\;text-align:start\;widows:2\;-webkit-text-stroke-width:0px\;text-decoration-thickness:initial\;text-decoration-style:initial\;word-spacing:0px\;">LUNCH: Please email with any dietary restrictions&nbsp\;</span></span></span></span></span><br style="font-variant-ligatures:normal\;font-variant-caps:normal\;orphans:2\;text-align:start\;widows:2\;-webkit-text-stroke-width:0px\;text-decoration-thickness:initial\;text-decoration-style:initial\;word-spacing:0px\;" />\n<span style="color:#333333\;"><span style="font-family:arial\,sans-serif\;"><span style="font-size:10.5pt\;"><span style="background:white\;"><span style="font-variant-ligatures:normal\;font-variant-caps:normal\;orphans:2\;text-align:start\;widows:2\;-webkit-text-stroke-width:0px\;text-decoration-thickness:initial\;text-decoration-style:initial\;word-spacing:0px\;">Questions? Email&nbsp\;<a href="mailto:libertygrace@abilenechamber.com"><span style="color:#0782C1\;">l</span></a><a href="mailto:libertygrace@abilenechamber.com">ibertygrace@abilenechamber.com&nbsp\;</a><br />\n<br />\n<strong><span style="font-family:arial\,sans-serif\;">ABOUT OUR SPEAKER:</span></strong></span></span><br />\n<span style="font-size:12px\;"><span style="font-family:arial\;"><strong><span style="font-variant-ligatures:normal\;font-variant-caps:normal\;orphans:2\;text-align:start\;widows:2\;-webkit-text-stroke-width:0px\;text-decoration-thickness:initial\;text-decoration-style:initial\;word-spacing:0px\;">Dr. David Young:</span></strong><span style="background:white\;"><span style="color:#333333\;">&nbsp\;</span></span></span></span></span></span></span>Dr. David Young became Superintendent of Schools for Abilene ISD on August 20\, 2015.<br />\n<br />\nA product of Abilene ISD schools and 1990 graduate of Cooper High School\, Dr. Young served as the superintendent of the Pampa Independent School District from 2012-2015 prior to joining AISD.<br />\n<br />\nBefore becoming Pampa ISD&rsquo\;s superintendent\, Dr. Young served the Midway ISD as Assistant Superintendent for Curriculum and Instruction for three years. He held several central office roles in the Bryan ISD and was a building principal at both the middle and high school levels while serving in the Bryan\, Navasota\, and Grapevine-Colleyville ISDs. He taught mathematics in both the Grapevine-Colleyville and Waxahachie ISDs.<br />\nDr. Young received both his undergraduate and doctoral degrees from Texas A&amp\;M University in College Station and his masters from Texas A&amp\;M &ndash\; Commerce.<br />\n<br />\nDr. Young&rsquo\;s wife\, Amanda\, a 1992 graduate of Cooper High School\, is a former elementary school counselor who is currently the Benefits Coordinator for the Abilene ISD. The Youngs have three children: Austin\, Madison\, and Jackson. Austin graduated from Pampa High School\, while Madison and Jackson graduated from Cooper High School. Austin is a graduate of Hardin-Simmons University and is a music minister in Portland\, Texas\, and is married with a daughter. Madison is a recent graduate of Samford University and is a nurse in Birmingham\, Ala.\, and Jackson is a student at HSU.<br />\n<br />\nOn the state level\, Dr. Young is active in the Texas Association of School Administrators\, the Texas Association of Mid-Sized Schools\, and the Texas Association of School Boards. Dr. Young holds leadership positions in the Texas Association of Community Schools and is currently serving as president of the Texas Association of Supervision and Curriculum Development.<br />\n<br />\n&nbsp\;
LOCATION:Abilene Convention Center during Business Expo! 1100 N 6th St.
UID:e.3433.4560
SEQUENCE:3
DTSTAMP:20260425T215348Z
URL:https://business.abilenechamber.com/events/details/03-30-22-abichat-luncheon-sponsored-by-big-brothers-big-sisters-4560
END:VEVENT

END:VCALENDAR
