BEGIN:VCALENDAR
VERSION:2.0
PRODID:-//ChamberMaster//Event Calendar 2.0//EN
METHOD:PUBLISH
X-PUBLISHED-TTL:P3D
REFRESH-INTERVAL:P3D
CALSCALE:GREGORIAN
BEGIN:VEVENT
DTSTART:20260325T213000Z
DTEND:20260325T233000Z
X-MICROSOFT-CDO-ALLDAYEVENT:FALSE
SUMMARY:03.25.26 Business Expo After Hours sponsored by First Bank Texas
DESCRIPTION:Unwind after a full day of networking at Business After Hours immediately following Business Expo sponsored by First Bank Texas! Kicking off early at 4:30pm\, we will have live music from 96.1 Q Country\, Apps from Food Theorie\, and drinks courtesy of Reed Beverage.\n\n\n\nAt 5:00 PM\, our long-standing Live Auction sponsored by Abilene Environmental Landfill will take place with small business packages you'll want to capitalize on! The silent auction has begun and ends at 6:00 PM during after hours. VIEW OUR AUCTION ITEMS HERE!\n\n\n\nThis is a networking event you won't want to miss!
X-ALT-DESC;FMTTYPE=text/html:<span style="color:black\;"><span style="font-family:arial\,sans-serif\;"><span style="font-size:10.5pt\;">Unwind after a full day of networking at Business After Hours immediately following Business Expo sponsored by First Bank Texas! Kicking off early at 4:30pm\, we will have live music from 96.1 Q Country\, Apps from Food Theorie\, and&nbsp\;drinks courtesy of Reed Beverage.<br />\n<br />\nAt 5:00 PM\, our long-standing Live Auction sponsored by Abilene Environmental Landfill will take place with small business packages you&#39\;ll want to capitalize on! The silent auction has begun and ends at 6:00 PM during after hours. </span></span></span><span style="font-family:arial\,sans-serif\;"><span style="font-size:10.5pt\;"><strong><a href="https://event.auctria.com/2addd489-a7c8-4b6b-a14e-0b3f81ee01f0/"><span style="color:#FF0000\;">VIEW OUR AUCTION ITEMS HERE!</span></a></strong></span></span><br />\n<br />\n<span style="color:black\;"><span style="font-family:arial\,sans-serif\;"><span style="font-size:10.5pt\;">This is a networking event you won&#39\;t want to miss!</span></span></span><br />\n<br />\n&nbsp\;
LOCATION:Abilene Convention Center Main Foyer
UID:e.3433.6045
SEQUENCE:3
DTSTAMP:20260421T152335Z
URL:https://business.abilenechamber.com/events/details/03-25-26-business-expo-after-hours-sponsored-by-first-bank-texas-6045
END:VEVENT

END:VCALENDAR
