BEGIN:VCALENDAR
VERSION:2.0
PRODID:-//ChamberMaster//Event Calendar 2.0//EN
METHOD:PUBLISH
X-PUBLISHED-TTL:P3D
REFRESH-INTERVAL:P3D
CALSCALE:GREGORIAN
BEGIN:VEVENT
DTSTART:20220302T140000Z
DTEND:20220302T150000Z
X-MICROSOFT-CDO-ALLDAYEVENT:FALSE
SUMMARY:03.02.22 Wake Up Wednesday Sponsored by Big Country AIDS Resources
DESCRIPTION:Please join us for our a captivating Wake Up Wednesday! Sponsored by Big Country Aid Resources. This monthly Chamber networking event is open to our sponsor's employees and guests\, Chamber members and prospective members. This event features a short sponsor presentation\, food/beverages\, update on Chamber activities and door prizes.\nPlease note: This event is being photographed and/or videotaped and your image may be used in connection with the advertising and promotion of the Abilene Chamber of Commerce.
X-ALT-DESC;FMTTYPE=text/html:Please join us for our a captivating Wake Up Wednesday! Sponsored by Big Country Aid Resources. This monthly Chamber networking event is open to our sponsor&#39\;s employees and guests\, Chamber members and prospective members. This event features a short sponsor presentation\, food/beverages\, update on Chamber activities and door prizes.\n<p class="xxxmsonormal" style="background-image: initial\; background-position: initial\; background-size: initial\; background-repeat: initial\; background-attachment: initial\; background-origin: initial\; background-clip: initial\;"><span style="font-family: arial\, sans-serif\; font-size: 9.33333px\;">Please note: This event is being photographed and/or videotaped and your image may be used in connection with the advertising and promotion of the Abilene Chamber of Commerce.</span></p>\n
LOCATION:PLEASE NOTE: THIS WILL NOT BE AT THE ABILENE WOMAN'S CLUB. Big Country Aids Resources 402 Butternut Street Abilene\, TX 79602
UID:e.3433.4574
SEQUENCE:3
DTSTAMP:20260425T215428Z
URL:https://business.abilenechamber.com/events/details/03-02-22-wake-up-wednesday-sponsored-by-big-country-aids-resources-4574
END:VEVENT

END:VCALENDAR
